Workbook
Name AdmissionStatus: #REF!
Name DegreeProgram: #REF!
Name Designation: #REF!
Name DvListSource1: [1]Sheet2!$D$1:$D$3
Name DvListSource2: [1]Sheet2!$G$1:$G$3
Name DY_NAME: OFFSET(#REF!,,,COUNTIF(#REF!, "?*"))
Name faculty_type: #REF!
Name Gender: #REF!
Name HEIs: #REF!
Name Highest_Degree: #REF!
Name q_combine_enroll_2013_21: #REF!
Name Qualification: '[2]list of Desig n Qualification'!$E$1:$E$5
Name RegistrationSession: #REF!
Name Specialization: #REF!
Name Summary: #REF!
Name SWATPrograms: #REF!

Sheet Login
B2: University Name | C2: Password
B5: Click here to Login

Sheet Bio and Physics Lab Equipments
A1: UNIVERSITY_ID | B1: UNIVERSITY_NAME | C1: CAMPUS_TYPE | D1: CAMPUS_CITY | E1: DEPARTMENT_NAME | F1: UNIVERSITY_DEPARTMENT_ID | G1: Equipment Name | H1: Type of equipment | I1: Quantity (please only specify a number) | J1: Year of Procurement/Installation | K1: Current Condition (Please Select from Dropdown List) | L1: Utilization Level(Average usage by students/researchers) | M1: Maintinance status(Please Select from Dropdown List) | N1: Associated lab capacity (number of students/researchers accommodated) | O1: Replacement/Upgrade plans (if any) | P1: University Comments
A2: =IFERROR(INDEX(PQR_Dept!$A$2:$A$7026, MATCH(Faculty_2023_25[[#This Row],[UNIVERSITY_DEPARTMENT_ID]],PQR_Dept!$H$2:$H$7026, 0)), "") | B2: =IFERROR(INDEX(PQR_Dept!$B$2:$B$7026, MATCH(Faculty_2023_25[[#This Row],[UNIVERSITY_DEPARTMENT_ID]],PQR_Dept!$H$2:$H$7026, 0)), "") | C2: =IFERROR(INDEX(PQR_Dept!$C$2:$C$7026, MATCH(Faculty_2023_25[[#This Row],[UNIVERSITY_DEPARTMENT_ID]],PQR_Dept!$H$2:$H$7026, 0)), "") | D2: =IFERROR(INDEX(PQR_Dept!$E$2:$E$7026, MATCH(Faculty_2023_25[[#This Row],[UNIVERSITY_DEPARTMENT_ID]],PQR_Dept!$H$2:$H$7026, 0)), "") | E2: =IFERROR(INDEX(PQR_Dept!$F$2:$F$7026, MATCH(Faculty_2023_25[[#This Row],[UNIVERSITY_DEPARTMENT_ID]],PQR_Dept!$H$2:$H$7026, 0)), "")
A3: =IFERROR(INDEX(PQR_Dept!$A$2:$A$7026, MATCH(Faculty_2023_25[[#This Row],[UNIVERSITY_DEPARTMENT_ID]],PQR_Dept!$H$2:$H$7026, 0)), "") | B3: =IFERROR(INDEX(PQR_Dept!$B$2:$B$7026, MATCH(Faculty_2023_25[[#This Row],[UNIVERSITY_DEPARTMENT_ID]],PQR_Dept!$H$2:$H$7026, 0)), "") | C3: =IFERROR(INDEX(PQR_Dept!$C$2:$C$7026, MATCH(Faculty_2023_25[[#This Row],[UNIVERSITY_DEPARTMENT_ID]],PQR_Dept!$H$2:$H$7026, 0)), "") | D3: =IFERROR(INDEX(PQR_Dept!$E$2:$E$7026, MATCH(Faculty_2023_25[[#This Row],[UNIVERSITY_DEPARTMENT_ID]],PQR_Dept!$H$2:$H$7026, 0)), "") | E3: =IFERROR(INDEX(PQR_Dept!$F$2:$F$7026, MATCH(Faculty_2023_25[[#This Row],[UNIVERSITY_DEPARTMENT_ID]],PQR_Dept!$H$2:$H$7026, 0)), "")
A4: =IFERROR(INDEX(PQR_Dept!$A$2:$A$7026, MATCH(Faculty_2023_25[[#This Row],[UNIVERSITY_DEPARTMENT_ID]],PQR_Dept!$H$2:$H$7026, 0)), "") | B4: =IFERROR(INDEX(PQR_Dept!$B$2:$B$7026, MATCH(Faculty_2023_25[[#This Row],[UNIVERSITY_DEPARTMENT_ID]],PQR_Dept!$H$2:$H$7026, 0)), "") | C4: =IFERROR(INDEX(PQR_Dept!$C$2:$C$7026, MATCH(Faculty_2023_25[[#This Row],[UNIVERSITY_DEPARTMENT_ID]],PQR_Dept!$H$2:$H$7026, 0)), "") | D4: =IFERROR(INDEX(PQR_Dept!$E$2:$E$7026, MATCH(Faculty_2023_25[[#This Row],[UNIVERSITY_DEPARTMENT_ID]],PQR_Dept!$H$2:$H$7026, 0)), "") | E4: =IFERROR(INDEX(PQR_Dept!$F$2:$F$7026, MATCH(Faculty_2023_25[[#This Row],[UNIVERSITY_DEPARTMENT_ID]],PQR_Dept!$H$2:$H$7026, 0)), "")
A5: =IFERROR(INDEX(PQR_Dept!$A$2:$A$7026, MATCH(Faculty_2023_25[[#This Row],[UNIVERSITY_DEPARTMENT_ID]],PQR_Dept!$H$2:$H$7026, 0)), "") | B5: =IFERROR(INDEX(PQR_Dept!$B$2:$B$7026, MATCH(Faculty_2023_25[[#This Row],[UNIVERSITY_DEPARTMENT_ID]],PQR_Dept!$H$2:$H$7026, 0)), "") | C5: =IFERROR(INDEX(PQR_Dept!$C$2:$C$7026, MATCH(Faculty_2023_25[[#This Row],[UNIVERSITY_DEPARTMENT_ID]],PQR_Dept!$H$2:$H$7026, 0)), "") | D5: =IFERROR(INDEX(PQR_Dept!$E$2:$E$7026, MATCH(Faculty_2023_25[[#This Row],[UNIVERSITY_DEPARTMENT_ID]],PQR_Dept!$H$2:$H$7026, 0)), "") | E5: =IFERROR(INDEX(PQR_Dept!$F$2:$F$7026, MATCH(Faculty_2023_25[[#This Row],[UNIVERSITY_DEPARTMENT_ID]],PQR_Dept!$H$2:$H$7026, 0)), "")
A6: =IFERROR(INDEX(PQR_Dept!$A$2:$A$7026, MATCH(Faculty_2023_25[[#This Row],[UNIVERSITY_DEPARTMENT_ID]],PQR_Dept!$H$2:$H$7026, 0)), "") | B6: =IFERROR(INDEX(PQR_Dept!$B$2:$B$7026, MATCH(Faculty_2023_25[[#This Row],[UNIVERSITY_DEPARTMENT_ID]],PQR_Dept!$H$2:$H$7026, 0)), "") | C6: =IFERROR(INDEX(PQR_Dept!$C$2:$C$7026, MATCH(Faculty_2023_25[[#This Row],[UNIVERSITY_DEPARTMENT_ID]],PQR_Dept!$H$2:$H$7026, 0)), "") | D6: =IFERROR(INDEX(PQR_Dept!$E$2:$E$7026, MATCH(Faculty_2023_25[[#This Row],[UNIVERSITY_DEPARTMENT_ID]],PQR_Dept!$H$2:$H$7026, 0)), "") | E6: =IFERROR(INDEX(PQR_Dept!$F$2:$F$7026, MATCH(Faculty_2023_25[[#This Row],[UNIVERSITY_DEPARTMENT_ID]],PQR_Dept!$H$2:$H$7026, 0)), "")
A7: =IFERROR(INDEX(PQR_Dept!$A$2:$A$7026, MATCH(Faculty_2023_25[[#This Row],[UNIVERSITY_DEPARTMENT_ID]],PQR_Dept!$H$2:$H$7026, 0)), "") | B7: =IFERROR(INDEX(PQR_Dept!$B$2:$B$7026, MATCH(Faculty_2023_25[[#This Row],[UNIVERSITY_DEPARTMENT_ID]],PQR_Dept!$H$2:$H$7026, 0)), "") | C7: =IFERROR(INDEX(PQR_Dept!$C$2:$C$7026, MATCH(Faculty_2023_25[[#This Row],[UNIVERSITY_DEPARTMENT_ID]],PQR_Dept!$H$2:$H$7026, 0)), "") | D7: =IFERROR(INDEX(PQR_Dept!$E$2:$E$7026, MATCH(Faculty_2023_25[[#This Row],[UNIVERSITY_DEPARTMENT_ID]],PQR_Dept!$H$2:$H$7026, 0)), "") | E7: =IFERROR(INDEX(PQR_Dept!$F$2:$F$7026, MATCH(Faculty_2023_25[[#This Row],[UNIVERSITY_DEPARTMENT_ID]],PQR_Dept!$H$2:$H$7026, 0)), "")
A8: =IFERROR(INDEX(PQR_Dept!$A$2:$A$7026, MATCH(Faculty_2023_25[[#This Row],[UNIVERSITY_DEPARTMENT_ID]],PQR_Dept!$H$2:$H$7026, 0)), "") | B8: =IFERROR(INDEX(PQR_Dept!$B$2:$B$7026, MATCH(Faculty_2023_25[[#This Row],[UNIVERSITY_DEPARTMENT_ID]],PQR_Dept!$H$2:$H$7026, 0)), "") | C8: =IFERROR(INDEX(PQR_Dept!$C$2:$C$7026, MATCH(Faculty_2023_25[[#This Row],[UNIVERSITY_DEPARTMENT_ID]],PQR_Dept!$H$2:$H$7026, 0)), "") | D8: =IFERROR(INDEX(PQR_Dept!$E$2:$E$7026, MATCH(Faculty_2023_25[[#This Row],[UNIVERSITY_DEPARTMENT_ID]],PQR_Dept!$H$2:$H$7026, 0)), "") | E8: =IFERROR(INDEX(PQR_Dept!$F$2:$F$7026, MATCH(Faculty_2023_25[[#This Row],[UNIVERSITY_DEPARTMENT_ID]],PQR_Dept!$H$2:$H$7026, 0)), "")
A9: =IFERROR(INDEX(PQR_Dept!$A$2:$A$7026, MATCH(Faculty_2023_25[[#This Row],[UNIVERSITY_DEPARTMENT_ID]],PQR_Dept!$H$2:$H$7026, 0)), "") | B9: =IFERROR(INDEX(PQR_Dept!$B$2:$B$7026, MATCH(Faculty_2023_25[[#This Row],[UNIVERSITY_DEPARTMENT_ID]],PQR_Dept!$H$2:$H$7026, 0)), "") | C9: =IFERROR(INDEX(PQR_Dept!$C$2:$C$7026, MATCH(Faculty_2023_25[[#This Row],[UNIVERSITY_DEPARTMENT_ID]],PQR_Dept!$H$2:$H$7026, 0)), "") | D9: =IFERROR(INDEX(PQR_Dept!$E$2:$E$7026, MATCH(Faculty_2023_25[[#This Row],[UNIVERSITY_DEPARTMENT_ID]],PQR_Dept!$H$2:$H$7026, 0)), "") | E9: =IFERROR(INDEX(PQR_Dept!$F$2:$F$7026, MATCH(Faculty_2023_25[[#This Row],[UNIVERSITY_DEPARTMENT_ID]],PQR_Dept!$H$2:$H$7026, 0)), "")
A10: =IFERROR(INDEX(PQR_Dept!$A$2:$A$7026, MATCH(Faculty_2023_25[[#This Row],[UNIVERSITY_DEPARTMENT_ID]],PQR_Dept!$H$2:$H$7026, 0)), "") | B10: =IFERROR(INDEX(PQR_Dept!$B$2:$B$7026, MATCH(Faculty_2023_25[[#This Row],[UNIVERSITY_DEPARTMENT_ID]],PQR_Dept!$H$2:$H$7026, 0)), "") | C10: =IFERROR(INDEX(PQR_Dept!$C$2:$C$7026, MATCH(Faculty_2023_25[[#This Row],[UNIVERSITY_DEPARTMENT_ID]],PQR_Dept!$H$2:$H$7026, 0)), "") | D10: =IFERROR(INDEX(PQR_Dept!$E$2:$E$7026, MATCH(Faculty_2023_25[[#This Row],[UNIVERSITY_DEPARTMENT_ID]],PQR_Dept!$H$2:$H$7026, 0)), "") | E10: =IFERROR(INDEX(PQR_Dept!$F$2:$F$7026, MATCH(Faculty_2023_25[[#This Row],[UNIVERSITY_DEPARTMENT_ID]],PQR_Dept!$H$2:$H$7026, 0)), "")
A11: =IFERROR(INDEX(PQR_Dept!$A$2:$A$7026, MATCH(Faculty_2023_25[[#This Row],[UNIVERSITY_DEPARTMENT_ID]],PQR_Dept!$H$2:$H$7026, 0)), "") | B11: =IFERROR(INDEX(PQR_Dept!$B$2:$B$7026, MATCH(Faculty_2023_25[[#This Row],[UNIVERSITY_DEPARTMENT_ID]],PQR_Dept!$H$2:$H$7026, 0)), "") | C11: =IFERROR(INDEX(PQR_Dept!$C$2:$C$7026, MATCH(Faculty_2023_25[[#This Row],[UNIVERSITY_DEPARTMENT_ID]],PQR_Dept!$H$2:$H$7026, 0)), "") | D11: =IFERROR(INDEX(PQR_Dept!$E$2:$E$7026, MATCH(Faculty_2023_25[[#This Row],[UNIVERSITY_DEPARTMENT_ID]],PQR_Dept!$H$2:$H$7026, 0)), "") | E11: =IFERROR(INDEX(PQR_Dept!$F$2:$F$7026, MATCH(Faculty_2023_25[[#This Row],[UNIVERSITY_DEPARTMENT_ID]],PQR_Dept!$H$2:$H$7026, 0)), "")
A12: =IFERROR(INDEX(PQR_Dept!$A$2:$A$7026, MATCH(Faculty_2023_25[[#This Row],[UNIVERSITY_DEPARTMENT_ID]],PQR_Dept!$H$2:$H$7026, 0)), "") | B12: =IFERROR(INDEX(PQR_Dept!$B$2:$B$7026, MATCH(Faculty_2023_25[[#This Row],[UNIVERSITY_DEPARTMENT_ID]],PQR_Dept!$H$2:$H$7026, 0)), "") | C12: =IFERROR(INDEX(PQR_Dept!$C$2:$C$7026, MATCH(Faculty_2023_25[[#This Row],[UNIVERSITY_DEPARTMENT_ID]],PQR_Dept!$H$2:$H$7026, 0)), "") | D12: =IFERROR(INDEX(PQR_Dept!$E$2:$E$7026, MATCH(Faculty_2023_25[[#This Row],[UNIVERSITY_DEPARTMENT_ID]],PQR_Dept!$H$2:$H$7026, 0)), "") | E12: =IFERROR(INDEX(PQR_Dept!$F$2:$F$7026, MATCH(Faculty_2023_25[[#This Row],[UNIVERSITY_DEPARTMENT_ID]],PQR_Dept!$H$2:$H$7026, 0)), "")
A13: =IFERROR(INDEX(PQR_Dept!$A$2:$A$7026, MATCH(Faculty_2023_25[[#This Row],[UNIVERSITY_DEPARTMENT_ID]],PQR_Dept!$H$2:$H$7026, 0)), "") | B13: =IFERROR(INDEX(PQR_Dept!$B$2:$B$7026, MATCH(Faculty_2023_25[[#This Row],[UNIVERSITY_DEPARTMENT_ID]],PQR_Dept!$H$2:$H$7026, 0)), "") | C13: =IFERROR(INDEX(PQR_Dept!$C$2:$C$7026, MATCH(Faculty_2023_25[[#This Row],[UNIVERSITY_DEPARTMENT_ID]],PQR_Dept!$H$2:$H$7026, 0)), "") | D13: =IFERROR(INDEX(PQR_Dept!$E$2:$E$7026, MATCH(Faculty_2023_25[[#This Row],[UNIVERSITY_DEPARTMENT_ID]],PQR_Dept!$H$2:$H$7026, 0)), "") | E13: =IFERROR(INDEX(PQR_Dept!$F$2:$F$7026, MATCH(Faculty_2023_25[[#This Row],[UNIVERSITY_DEPARTMENT_ID]],PQR_Dept!$H$2:$H$7026, 0)), "")
... A2000: =IFERROR(INDEX(PQR_Dept!$A$2:$A$7026, MATCH(Faculty_2023_25[[#This Row],[UNIVERSITY_DEPARTMENT_ID]],PQR_Dept!$H$2:$H$7026, 0)), "") | B2000: =IFERROR(INDEX(PQR_Dept!$B$2:$B$7026, MATCH(Faculty_2023_25[[#This Row],[UNIVERSITY_DEPARTMENT_ID]],PQR_Dept!$H$2:$H$7026, 0)), "") | C2000: =IFERROR(INDEX(PQR_Dept!$C$2:$C$7026, MATCH(Faculty_2023_25[[#This Row],[UNIVERSITY_DEPARTMENT_ID]],PQR_Dept!$H$2:$H$7026, 0)), "") | D2000: =IFERROR(INDEX(PQR_Dept!$E$2:$E$7026, MATCH(Faculty_2023_25[[#This Row],[UNIVERSITY_DEPARTMENT_ID]],PQR_Dept!$H$2:$H$7026, 0)), "") | E2000: =IFERROR(INDEX(PQR_Dept!$F$2:$F$7026, MATCH(Faculty_2023_25[[#This Row],[UNIVERSITY_DEPARTMENT_ID]],PQR_Dept!$H$2:$H$7026, 0)), "")

Sheet PQR_Dept
A1: PQR_Department[UNIVERSITY ID] | B1: PQR_Department[UNIVERSITY NAME] | C1: PQR_Department[CAMPUS TYPE] | D1: PQR_Department[CAMPUS NAME] | E1: PQR_Department[CAMPUS CITY] | F1: PQR_Department[DEPARTMENT NAME] | G1: PQR_Department[UNIVERSITY DEPARTMENT ID] | H1: Dept ID
A2: 10 | B2: Bahria University, Islamabad | C2: Constituent College | D2: Institute of Professional Psychology | E2: Karachi | F2: Biotechnology | G2: 575 | H2: =CONCATENATE(G2, ">>>", C2, ">>>", E2, ">>>", F2) -> 575>>>Constituent College>>>Karachi>>>Biotechnology
A3: 10 | B3: Bahria University, Islamabad | C3: Main Campus | D3: Bahria University Islamabad Campus | E3: Islamabad | F3: Microbiology | G3: 568 | H3: =CONCATENATE(G3, ">>>", C3, ">>>", E3, ">>>", F3) -> 568>>>Main Campus>>>Islamabad>>>Microbiology
A4: 103 | B4: Gomal University, D.I. Khan | C4: Affiliated College | D4: Center Of Emerging Sciences, Engineering & Technology | E4: Islamabad | F4: Physics | G4: 16677 | H4: =CONCATENATE(G4, ">>>", C4, ">>>", E4, ">>>", F4) -> 16677>>>Affiliated College>>>Islamabad>>>Physics
A5: 103 | B5: Gomal University, D.I. Khan | C5: Main Campus | D5: New Campus | E5: Dera Ismail Khan | F5: Biological Sciences | G5: 1831 | H5: =CONCATENATE(G5, ">>>", C5, ">>>", E5, ">>>", F5) -> 1831>>>Main Campus>>>Dera Ismail Khan>>>Biological Sciences
A6: 103 | B6: Gomal University, D.I. Khan | C6: Main Campus | D6: New Campus | E6: Dera Ismail Khan | F6: Department of Biological Sciences | G6: 11763 | H6: =CONCATENATE(G6, ">>>", C6, ">>>", E6, ">>>", F6) -> 11763>>>Main Campus>>>Dera Ismail Khan>>>Department of Biological Sciences
A7: 103 | B7: Gomal University, D.I. Khan | C7: Main Campus | D7: New Campus | E7: Dera Ismail Khan | F7: Gomal Center of Biochemistry & Biotechnology | G7: 1877 | H7: =CONCATENATE(G7, ">>>", C7, ">>>", E7, ">>>", F7) -> 1877>>>Main Campus>>>Dera Ismail Khan>>>Gomal Center of Biochemistry & Biotechnology
A8: 103 | B8: Gomal University, D.I. Khan | C8: Main Campus | D8: New Campus | E8: Dera Ismail Khan | F8: Institute of Microbiology | G8: 16173 | H8: =CONCATENATE(G8, ">>>", C8, ">>>", E8, ">>>", F8) -> 16173>>>Main Campus>>>Dera Ismail Khan>>>Institute of Microbiology
A9: 103 | B9: Gomal University, D.I. Khan | C9: Main Campus | D9: New Campus | E9: Dera Ismail Khan | F9: Institute of physics and Electronics | G9: 16787 | H9: =CONCATENATE(G9, ">>>", C9, ">>>", E9, ">>>", F9) -> 16787>>>Main Campus>>>Dera Ismail Khan>>>Institute of physics and Electronics
A10: 103 | B10: Gomal University, D.I. Khan | C10: Main Campus | D10: New Campus | E10: Dera Ismail Khan | F10: Physics | G10: 1845 | H10: =CONCATENATE(G10, ">>>", C10, ">>>", E10, ">>>", F10) -> 1845>>>Main Campus>>>Dera Ismail Khan>>>Physics
A11: 103 | B11: Gomal University, D.I. Khan | C11: Sub Campus | D11: Tank Campus | E11: Dera Ismail Khan | F11: Department of Physics | G11: 50903 | H11: =CONCATENATE(G11, ">>>", C11, ">>>", E11, ">>>", F11) -> 50903>>>Sub Campus>>>Dera Ismail Khan>>>Department of Physics
A12: 104 | B12: Hazara University, Dodhial, Mansehra | C12: Affiliated College | D12: Government Girls Degree College No 2, Abbottabad | E12: Abbottabad | F12: Physics | G12: 7327 | H12: =CONCATENATE(G12, ">>>", C12, ">>>", E12, ">>>", F12) -> 7327>>>Affiliated College>>>Abbottabad>>>Physics
A13: 104 | B13: Hazara University, Dodhial, Mansehra | C13: Affiliated College | D13: Government Post Graduate College No 1, Abbottabad | E13: Abbottabad | F13: Physics | G13: 7266 | H13: =CONCATENATE(G13, ">>>", C13, ">>>", E13, ">>>", F13) -> 7266>>>Affiliated College>>>Abbottabad>>>Physics
... A655: 99 | B655: CECOS University of Information Technology and Emerging Sciences, Peshawar | C655: Main Campus | D655: Main Campus | E655: Peshawar | F655: Institute of Integrative Biosciences | G655: 1966 | H655: =CONCATENATE(G655, ">>>", C655, ">>>", E655, ">>>", F655) -> 1966>>>Main Campus>>>Peshawar>>>Institute of Integrative Biosciences

Sheet Sheet6
A1: University ID | B1: HEI Name2 | C1: PQR_UNIVERSITY_ID | D1: PQR_UNIVERSITY_NAME | E1: S.No. | F1: User Name | G1: Password | H1: Column1 | J1: Username/Password | K1: Univ Name
A2: 1 | B2: Abasyn University, Peshawar | C2: 121 | D2: Abasyn University, Peshawar | E2: 277 | F2: arif.abasyn@pern.edu.pk | G2: JczE8668 | H2: =CONCATENATE(D2,G2) -> Abasyn University, PeshawarJczE8668 | J2: =CONCATENATE(Login!B3,Login!C3) | K2: =IFERROR(INDEX($D$2:$D$271, MATCH(J2, $H$2:$H$271, 0)), "")
A3: 2 | B3: Abbottabad University of Science & Technology (AUST), Abbottabad | C3: 17758 | D3: Abbottabad University of Science & Technology (AUST), Abbottabad | F3: Saifmehsud_aust@pern.edu.pk | G3: WojM9701 | H3: =CONCATENATE(D3,G3) -> Abbottabad University of Science & Technology (AUST), AbbottabadWojM9701
A4: 3 | B4: Abdul Wali Khan University, Mardan | C4: 130 | D4: Abdul Wali Khan University, Mardan | F4: Beenish_khurshid_awkum@pern.edu.pk | G4: WpgS3237 | H4: =CONCATENATE(D4,G4) -> Abdul Wali Khan University, MardanWpgS3237
A5: 4 | B5: Aga Khan University, Karachi | C5: 17488 | D5: Aga Khan University, Karachi | E5: 332 | F5: nasreen.sheikh.aku@pern.edu.pk | G5: OubA3287 | H5: =CONCATENATE(D5,G5) -> Aga Khan University, KarachiOubA3287
A6: 5 | B6: Air University, Islamabad | C6: 8 | D6: Air University, Islamabad | E6: 23 | F6: mehreen.ishtiaq.mail@pern.edu.pk | G6: KwmB6111 | H6: =CONCATENATE(D6,G6) -> Air University, IslamabadKwmB6111
A7: 6 | B7: Air War College Institute, Karachi | C7: 17845 | D7: Air War College Institute (AWCI), Karachi | E7: 478 | F7: registrar.awci@pern.edu.pk | G7: XtcZ8895 | H7: =CONCATENATE(D7,G7) -> Air War College Institute (AWCI), KarachiXtcZ8895
D8: Al-ghazali University, Karachi | G8: FvvK9506 | H8: =CONCATENATE(D8,G8) -> Al-ghazali University, KarachiFvvK9506
A9: 7 | B9: Al-Hamd Islamic University, Quetta | C9: 132 | D9: Al-Hamd Islamic University, Quetta | E9: 289 | F9: anila.kamal.alhamd@pern.edu.pk | G9: UknW5841 | H9: =CONCATENATE(D9,G9) -> Al-Hamd Islamic University, QuettaUknW5841
A10: 8 | B10: Ali Institute of Education, Lahore | C10: 17719 | D10: Ali Institute of Education | E10: 342 | F10: uzma.aie@pern.edu.pk | G10: BntC5934 | H10: =CONCATENATE(D10,G10) -> Ali Institute of EducationBntC5934
A11: 9 | B11: Al-Karam International Institute, Bhera | C11: 179303 | D11: Alkaram International Institute, Bhera | E11: 522 | F11: coe.akii@pern.edu.pk | G11: YdhY7389 | H11: =CONCATENATE(D11,G11) -> Alkaram International Institute, BheraYdhY7389
D12: Al-Kawthar University, Karachi | G12: CmuC5819 | H12: =CONCATENATE(D12,G12) -> Al-Kawthar University, KarachiCmuC5819
D13: Al-Khair University, AJ&K | G13: EsjE1546 | H13: =CONCATENATE(D13,G13) -> Al-Khair University, AJ&KEsjE1546
D14: Allama Iqbal Open University, Islamabad (AIOU) | G14: BvmW3703 | H14: =CONCATENATE(D14,G14) -> Allama Iqbal Open University, Islamabad (AIOU)BvmW3703
A15: 12 | B15: Aror University of Art, Architecture, Design and Heritage, Sukkur | C15: 179302 | D15: Aror University of Art, Architecture, Design and Heritage, Sukkur | E15: 525 | F15: ddit.aroruniversitysindh@pern.edu.pk | G15: QerI4073 | H15: =CONCATENATE(D15,G15) -> Aror University of Art, Architecture, Design and Heritage, SukkurQerI4073
D16: Baba Guru Nanak University Nankana Sahib | G16: CsjP6462 | H16: =CONCATENATE(D16,G16) -> Baba Guru Nanak University Nankana SahibCsjP6462
A17: 13 | B17: Bacha Khan University, Charsadda | C17: 17720 | D17: Bacha Khan University, Charsadda | E17: 345 | F17: director_qec.bkuc@pern.edu.pk | G17: SumR4777 | H17: =CONCATENATE(D17,G17) -> Bacha Khan University, CharsaddaSumR4777
A18: 14 | B18: Bahauddin Zakariya University, Multan | C18: 2 | D18: Bahauddin Zakariya University, Multan | E18: 3 | F18: dgebzu.bzu@pern.edu.pk | G18: TgzD8016 | H18: =CONCATENATE(D18,G18) -> Bahauddin Zakariya University, MultanTgzD8016
A19: 15 | B19: Bahria University, Islamabad | C19: 10 | D19: Bahria University, Islamabad | E19: 29 | F19: accreditationofficer.buho.bahria@pern.edu.pk | G19: WjzR4565 | H19: =CONCATENATE(D19,G19) -> Bahria University, IslamabadWjzR4565
A20: 16 | B20: Balochistan University of Engineering & Technology, Khuzdar | C20: 92 | D20: Balochistan University of Engineering & Technology, Khuzdar | E20: 223 | F20: mumtazmengal.buetk@pern.edu.pk | G20: WhkL6705 | H20: =CONCATENATE(D20,G20) -> Balochistan University of Engineering & Technology, KhuzdarWhkL6705
A21: 17 | B21: Balochistan University of Information Technology, Engineering & Management Sciences (BUITEMS), Quetta | C21: 17497 | D21: Balochistan University of Information Technology, Engineering and Management Sciences,Quetta | E21: 335 | F21: darashikoh.buitms@pern.edu.pk | G21: OylK9827 | H21: =CONCATENATE(D21,G21) -> Balochistan University of Information Technology, Engineering and Management Sciences,QuettaOylK9827
A22: 18 | B22: Baqai Medical University, Karachi | C22: 59 | D22: Baqai Medical University, Karachi | E22: 160 | F22: qec.baqai@pern.edu.pk | G22: AnoG8933 | H22: =CONCATENATE(D22,G22) -> Baqai Medical University, KarachiAnoG8933
A23: 19 | B23: Beaconhouse National University, Lahore | C23: 23 | D23: Beaconhouse National University, Lahore | E23: 57 | F23: saleem.bnu@pern.edu.pk | G23: FgxG4694 | H23: =CONCATENATE(D23,G23) -> Beaconhouse National University, LahoreFgxG4694
A24: 20 | B24: Begum Nusrat Bhutto Women University, Sukkur | C24: 17856 | D24: Begum Nusrat Bhutto Women University, Sukkur | E24: 515 | F24: qec.bnbwu@pern.edu.pk | G24: FpwD3761 | H24: =CONCATENATE(D24,G24) -> Begum Nusrat Bhutto Women University, SukkurFpwD3761
A25: 21 | B25: Benazir Bhutto Shaheed University Lyari, Karachi | C25: 17721 | D25: Benazir Bhutto Shaheed University Lyari, Karachi | E25: 348 | F25: registrar.bbsul@pern.edu.pk | G25: ZqqV5121 | H25: =CONCATENATE(D25,G25) -> Benazir Bhutto Shaheed University Lyari, KarachiZqqV5121
A26: 23 | B26: Brains Institute, Peshawar | C26: 17794 | D26: Brains Institute Peshawar | E26: 451 | F26: hayyan.cemco.icloud@pern.edu.pk | G26: DyaF9932 | H26: =CONCATENATE(D26,G26) -> Brains Institute PeshawarDyaF9932
A27: 24 | B27: Capital University of Sciences & Technology, Islamabad | C27: 17752 | D27: Capital University of Science and Technology, Islamabad | E27: 431 | F27: hassan.awan.cust@pern.edu.pk | G27: BvoH8720 | H27: =CONCATENATE(D27,G27) -> Capital University of Science and Technology, IslamabadBvoH8720
A28: 25 | B28: CECOS University of Information Technology and Emerging Sciences, Peshawar | C28: 99 | D28: CECOS University of Information Technology and Emerging Sciences, Peshawar | E28: 233 | F28: saqib.cecos@pern.edu.pk | G28: HhnV5590 | H28: =CONCATENATE(D28,G28) -> CECOS University of Information Technology and Emerging Sciences, PeshawarHhnV5590
A29: 26 | B29: Cholistan University of Veterinary & Animal Sciences, Bahawalpur | C29: 17828 | D29: Cholistan University of Veterinary and Animal Sciences, Bahawalpur | F29: Ranamuhammadbilal_cuvas@pern.edu.pk | G29: SzjZ6924 | H29: =CONCATENATE(D29,G29) -> Cholistan University of Veterinary and Animal Sciences, BahawalpurSzjZ6924
A30: 27 | B30: City University of Science & Information Technology, Peshawar | C30: 100 | D30: City University of Science and Information Technology, Peshawar | E30: 235 | F30: deputy.registrar@pern.edu.pk | G30: LnlV2098 | H30: =CONCATENATE(D30,G30) -> City University of Science and Information Technology, PeshawarLnlV2098
A31: 28 | B31: COMMECS Institute of Business & Emerging Sciences, Karachi | C31: 17722 | D31: Commecs Institute of Business & Emerging Sciences, Karachi | E31: 352 | F31: imran.iqbal.commecsinstitute@pern.edu.pk | G31: TbkX3335 | H31: =CONCATENATE(D31,G31) -> Commecs Institute of Business & Emerging Sciences, KarachiTbkX3335
A32: 29 | B32: COMSATS University, Islamabad | C32: 11 | D32: COMSATS University Islamabad | E32: 33 | F32: m.mudassir.comsats@pern.edu.pk | G32: BiwW1564 | H32: =CONCATENATE(D32,G32) -> COMSATS University IslamabadBiwW1564
A33: 30 | B33: Dadabhoy Institute of Higher Education, Karachi | C33: 60 | D33: Dadabhoy Institute of Higher Education, Karachi | E33: 162 | F33: assistantdirectorqec.dadabhoy@pern.edu.pk | G33: AcwP1775 | H33: =CONCATENATE(D33,G33) -> Dadabhoy Institute of Higher Education, KarachiAcwP1775
D34: Dar-Ul-Madina International University, Islamabad | G34: PawF4655 | H34: =CONCATENATE(D34,G34) -> Dar-Ul-Madina International University, IslamabadPawF4655
A35: 31 | B35: Dawood University of Engineering & Technology, Karachi | C35: 165 | D35: Dawood University of Engineering & Technology, Karachi | E35: 319 | F35: dr.arslan.ansari.duet@pern.edu.pk | G35: CtbO9993 | H35: =CONCATENATE(D35,G35) -> Dawood University of Engineering & Technology, KarachiCtbO9993
A36: 32 | B36: DHA Suffa University, Karachi | C36: 17490 | D36: DHA Suffa University, Karachi | E36: 334 | F36: ayesha.mahmood.dsu@pern.edu.pk | G36: SmqV9327 | H36: =CONCATENATE(D36,G36) -> DHA Suffa University, KarachiSmqV9327
A37: 33 | B37: DOW University of Health Sciences, Karachi | C37: 62 | D37: DOW University of Health Sciences, Karachi | E37: 165 | F37: salma.tariq.duhs@pern.edu.pk | G37: SazM7648 | H37: =CONCATENATE(D37,G37) -> DOW University of Health Sciences, Karachi SazM7648
A38: 34 | B38: Emaan Institute Of Management & Sciences, Karachi | C38: 179541 | D38: Emaan Institute of Management & Sciences, Karachi | E38: 79 | F38: Registrar.emaan@pern.edu.pk | G38: FcrQ2633 | H38: =CONCATENATE(D38,G38) -> Emaan Institute of Management & Sciences, KarachiFcrQ2633
A39: 35 | B39: Emerson University, Multan | C39: 179431 | D39: Emerson University, Multan | E39: 526 | F39: registrar.eum@pern.edu.pk | G39: WbgR6442 | H39: =CONCATENATE(D39,G39) -> Emerson University, MultanWbgR6442
D40: Faisalabad Medical University, Faisalabad | G40: RovO4035 | H40: =CONCATENATE(D40,G40) -> Faisalabad Medical University, FaisalabadRovO4035
...

Sheet Dropdown Lists
A1: UNIVERSITY_DEGREE_PROGRAM_ID
A2: =IF(Sheet6!$K$2 = PQR_Dept!B2, PQR_Dept!H2, 0) -> 0 | C2: PQR University Name | D2: Department Name(Physics/Biology) | E2: Equipment Name | F2: Type of equipment | G2: Quantity (please only specify a number) | H2: Year of Procurement/Installation | I2: Current Condition/Functionality(Fully functional/partially functional/non-Functional) | J2: Utilization Level(Average usage by students/researchers) | K2: Maintinance status(Under warranty/serviced regularly/not serviced) | L2: Associated lab capacity (number of students/researchers accommodated) | M2: Replacement/Upgrade plans (if any) | N2: University Comments (If any)
A3: =IF(Sheet6!$K$2 = PQR_Dept!B3, PQR_Dept!H3, 0) -> 0 | C3: from PQR | D3: From PQR | E3: Microscope | F3: General Equipment | H3: 1947 or Earlier | I3: Fully Functional | J3: Students | K3: Under Warranty | L3: Number Value | M3: Yes
A4: =IF(Sheet6!$K$2 = PQR_Dept!B4, PQR_Dept!H4, 0) -> 0 | E4: Centrifuge | F4: Physics Equipment | H4: 1948 | I4: Partially Functional | J4: Researchers | K4: Serviced Regularly | M4: No
A5: =IF(Sheet6!$K$2 = PQR_Dept!B5, PQR_Dept!H5, 0) -> 0 | E5: Autoclave | F5: Biological Equipment | H5: 1949 | I5: Non-Functional | J5: Students & Researchers | K5: Not Serviced
A6: =IF(Sheet6!$K$2 = PQR_Dept!B6, PQR_Dept!H6, 0) -> 0 | E6: Incubator | F6: Any Other (Please Specify in HEI Comments Column) | H6: 1950
A7: =IF(Sheet6!$K$2 = PQR_Dept!B7, PQR_Dept!H7, 0) -> 0 | E7: Water Bath | H7: 1951
A8: =IF(Sheet6!$K$2 = PQR_Dept!B8, PQR_Dept!H8, 0) -> 0 | E8: Hot Plate / Magnetic Stirrer | H8: 1952
A9: =IF(Sheet6!$K$2 = PQR_Dept!B9, PQR_Dept!H9, 0) -> 0 | E9: Shaker | H9: 1953
A10: =IF(Sheet6!$K$2 = PQR_Dept!B10, PQR_Dept!H10, 0) -> 0 | E10: pH Meter | H10: 1954
A11: =IF(Sheet6!$K$2 = PQR_Dept!B11, PQR_Dept!H11, 0) -> 0 | E11: Refrigerator / Freezer | H11: 1955
A12: =IF(Sheet6!$K$2 = PQR_Dept!B12, PQR_Dept!H12, 0) -> 0 | E12: PCR Machine | H12: 1956
A13: =IF(Sheet6!$K$2 = PQR_Dept!B13, PQR_Dept!H13, 0) -> 0 | E13: Gel Electrophoresis Unit | H13: 1957
A14: =IF(Sheet6!$K$2 = PQR_Dept!B14, PQR_Dept!H14, 0) -> 0 | E14: Spectrophotometer | H14: 1958
A15: =IF(Sheet6!$K$2 = PQR_Dept!B15, PQR_Dept!H15, 0) -> 0 | E15: Biosafety Cabinet | H15: 1959
A16: =IF(Sheet6!$K$2 = PQR_Dept!B16, PQR_Dept!H16, 0) -> 0 | E16: Laminar Flow Hood | H16: 1960
A17: =IF(Sheet6!$K$2 = PQR_Dept!B17, PQR_Dept!H17, 0) -> 0 | E17: Colony Counter | H17: 1961
A18: =IF(Sheet6!$K$2 = PQR_Dept!B18, PQR_Dept!H18, 0) -> 0 | E18: ELISA Reader | H18: 1962
... A38: =IF(Sheet6!$K$2 = PQR_Dept!B38, PQR_Dept!H38, 0) -> 0 | E38: Any Other (Please Specify in HEI Comments Column) | H38: 1982
A39: =IF(Sheet6!$K$2 = PQR_Dept!B39, PQR_Dept!H39, 0) -> 0 | H39: 1983
A40: =IF(Sheet6!$K$2 = PQR_Dept!B40, PQR_Dept!H40, 0) -> 0 | H40: 1984
A41: =IF(Sheet6!$K$2 = PQR_Dept!B41, PQR_Dept!H41, 0) -> 0 | H41: 1985
A42: =IF(Sheet6!$K$2 = PQR_Dept!B42, PQR_Dept!H42, 0) -> 0 | H42: 1986
A43: =IF(Sheet6!$K$2 = PQR_Dept!B43, PQR_Dept!H43, 0) -> 0 | H43: 1987
A44: =IF(Sheet6!$K$2 = PQR_Dept!B44, PQR_Dept!H44, 0) -> 0 | H44: 1988
A45: =IF(Sheet6!$K$2 = PQR_Dept!B45, PQR_Dept!H45, 0) -> 0 | H45: 1989
A46: =IF(Sheet6!$K$2 = PQR_Dept!B46, PQR_Dept!H46, 0) -> 0 | H46: 1990
A47: =IF(Sheet6!$K$2 = PQR_Dept!B47, PQR_Dept!H47, 0) -> 0 | H47: 1991
A48: =IF(Sheet6!$K$2 = PQR_Dept!B48, PQR_Dept!H48, 0) -> 0 | H48: 1992
A49: =IF(Sheet6!$K$2 = PQR_Dept!B49, PQR_Dept!H49, 0) -> 0 | H49: 1993
A50: =IF(Sheet6!$K$2 = PQR_Dept!B50, PQR_Dept!H50, 0) -> 0 | H50: 1994
... A81: =IF(Sheet6!$K$2 = PQR_Dept!B81, PQR_Dept!H81, 0) -> 0 | H81: 2025
A82: =IF(Sheet6!$K$2 = PQR_Dept!B82, PQR_Dept!H82, 0) -> 0
A83: =IF(Sheet6!$K$2 = PQR_Dept!B83, PQR_Dept!H83, 0) -> 0
A84: =IF(Sheet6!$K$2 = PQR_Dept!B84, PQR_Dept!H84, 0) -> 0
A85: =IF(Sheet6!$K$2 = PQR_Dept!B85, PQR_Dept!H85, 0) -> 0
A86: =IF(Sheet6!$K$2 = PQR_Dept!B86, PQR_Dept!H86, 0) -> 0
A87: =IF(Sheet6!$K$2 = PQR_Dept!B87, PQR_Dept!H87, 0) -> 0
A88: =IF(Sheet6!$K$2 = PQR_Dept!B88, PQR_Dept!H88, 0) -> 0
A89: =IF(Sheet6!$K$2 = PQR_Dept!B89, PQR_Dept!H89, 0) -> 0
...
