Workbook
Name AdmissionStatus: #REF!
Name DegreeProgram: #REF!
Name Designation: #REF!
Name DvListSource1: [1]Sheet2!$D$1:$D$3
Name DvListSource2: [1]Sheet2!$G$1:$G$3
Name DY_NAME: OFFSET(#REF!,,,COUNTIF(#REF!, "?*"))
Name faculty_type: #REF!
Name Gender: #REF!
Name HEIs: #REF!
Name Highest_Degree: #REF!
Name q_combine_enroll_2013_21: #REF!
Name Qualification: '[2]list of Desig n Qualification'!$E$1:$E$5
Name RegistrationSession: #REF!
Name Specialization: #REF!
Name Summary: #REF!
Name SWATPrograms: #REF!

Sheet Login
B2: University Name | C2: Password
B5: Click here to Login

Sheet Bio and Physics Lab Equipments
A1: UNIVERSITY_ID | B1: UNIVERSITY_NAME | C1: CAMPUS_TYPE | D1: CAMPUS_CITY | E1: DEPARTMENT_NAME | F1: UNIVERSITY_DEPARTMENT_ID | G1: Equipment Name | H1: Type of equipment | I1: Quantity (please only specify a number) | J1: Year of Procurement/Installation | K1: Current Condition (Please Select from Dropdown List) | L1: Utilization Level(Average usage by students/researchers) | M1: Maintinance status(Please Select from Dropdown List) | N1: Associated lab capacity (number of students/researchers accommodated) | O1: Replacement/Upgrade plans (if any) | P1: University Comments
A2: =IFERROR(INDEX(PQR_Dept!$A$2:$A$7026, MATCH(Faculty_2023_25[[#This Row],[UNIVERSITY_DEPARTMENT_ID]],PQR_Dept!$H$2:$H$7026, 0)), "") | B2: =IFERROR(INDEX(PQR_Dept!$B$2:$B$7026, MATCH(Faculty_2023_25[[#This Row],[UNIVERSITY_DEPARTMENT_ID]],PQR_Dept!$H$2:$H$7026, 0)), "") | C2: =IFERROR(INDEX(PQR_Dept!$C$2:$C$7026, MATCH(Faculty_2023_25[[#This Row],[UNIVERSITY_DEPARTMENT_ID]],PQR_Dept!$H$2:$H$7026, 0)), "") | D2: =IFERROR(INDEX(PQR_Dept!$E$2:$E$7026, MATCH(Faculty_2023_25[[#This Row],[UNIVERSITY_DEPARTMENT_ID]],PQR_Dept!$H$2:$H$7026, 0)), "") | E2: =IFERROR(INDEX(PQR_Dept!$F$2:$F$7026, MATCH(Faculty_2023_25[[#This Row],[UNIVERSITY_DEPARTMENT_ID]],PQR_Dept!$H$2:$H$7026, 0)), "")
A3: =IFERROR(INDEX(PQR_Dept!$A$2:$A$7026, MATCH(Faculty_2023_25[[#This Row],[UNIVERSITY_DEPARTMENT_ID]],PQR_Dept!$H$2:$H$7026, 0)), "") | B3: =IFERROR(INDEX(PQR_Dept!$B$2:$B$7026, MATCH(Faculty_2023_25[[#This Row],[UNIVERSITY_DEPARTMENT_ID]],PQR_Dept!$H$2:$H$7026, 0)), "") | C3: =IFERROR(INDEX(PQR_Dept!$C$2:$C$7026, MATCH(Faculty_2023_25[[#This Row],[UNIVERSITY_DEPARTMENT_ID]],PQR_Dept!$H$2:$H$7026, 0)), "") | D3: =IFERROR(INDEX(PQR_Dept!$E$2:$E$7026, MATCH(Faculty_2023_25[[#This Row],[UNIVERSITY_DEPARTMENT_ID]],PQR_Dept!$H$2:$H$7026, 0)), "") | E3: =IFERROR(INDEX(PQR_Dept!$F$2:$F$7026, MATCH(Faculty_2023_25[[#This Row],[UNIVERSITY_DEPARTMENT_ID]],PQR_Dept!$H$2:$H$7026, 0)), "")
A4: =IFERROR(INDEX(PQR_Dept!$A$2:$A$7026, MATCH(Faculty_2023_25[[#This Row],[UNIVERSITY_DEPARTMENT_ID]],PQR_Dept!$H$2:$H$7026, 0)), "") | B4: =IFERROR(INDEX(PQR_Dept!$B$2:$B$7026, MATCH(Faculty_2023_25[[#This Row],[UNIVERSITY_DEPARTMENT_ID]],PQR_Dept!$H$2:$H$7026, 0)), "") | C4: =IFERROR(INDEX(PQR_Dept!$C$2:$C$7026, MATCH(Faculty_2023_25[[#This Row],[UNIVERSITY_DEPARTMENT_ID]],PQR_Dept!$H$2:$H$7026, 0)), "") | D4: =IFERROR(INDEX(PQR_Dept!$E$2:$E$7026, MATCH(Faculty_2023_25[[#This Row],[UNIVERSITY_DEPARTMENT_ID]],PQR_Dept!$H$2:$H$7026, 0)), "") | E4: =IFERROR(INDEX(PQR_Dept!$F$2:$F$7026, MATCH(Faculty_2023_25[[#This Row],[UNIVERSITY_DEPARTMENT_ID]],PQR_Dept!$H$2:$H$7026, 0)), "")
A5: =IFERROR(INDEX(PQR_Dept!$A$2:$A$7026, MATCH(Faculty_2023_25[[#This Row],[UNIVERSITY_DEPARTMENT_ID]],PQR_Dept!$H$2:$H$7026, 0)), "") | B5: =IFERROR(INDEX(PQR_Dept!$B$2:$B$7026, MATCH(Faculty_2023_25[[#This Row],[UNIVERSITY_DEPARTMENT_ID]],PQR_Dept!$H$2:$H$7026, 0)), "") | C5: =IFERROR(INDEX(PQR_Dept!$C$2:$C$7026, MATCH(Faculty_2023_25[[#This Row],[UNIVERSITY_DEPARTMENT_ID]],PQR_Dept!$H$2:$H$7026, 0)), "") | D5: =IFERROR(INDEX(PQR_Dept!$E$2:$E$7026, MATCH(Faculty_2023_25[[#This Row],[UNIVERSITY_DEPARTMENT_ID]],PQR_Dept!$H$2:$H$7026, 0)), "") | E5: =IFERROR(INDEX(PQR_Dept!$F$2:$F$7026, MATCH(Faculty_2023_25[[#This Row],[UNIVERSITY_DEPARTMENT_ID]],PQR_Dept!$H$2:$H$7026, 0)), "")
A6: =IFERROR(INDEX(PQR_Dept!$A$2:$A$7026, MATCH(Faculty_2023_25[[#This Row],[UNIVERSITY_DEPARTMENT_ID]],PQR_Dept!$H$2:$H$7026, 0)), "") | B6: =IFERROR(INDEX(PQR_Dept!$B$2:$B$7026, MATCH(Faculty_2023_25[[#This Row],[UNIVERSITY_DEPARTMENT_ID]],PQR_Dept!$H$2:$H$7026, 0)), "") | C6: =IFERROR(INDEX(PQR_Dept!$C$2:$C$7026, MATCH(Faculty_2023_25[[#This Row],[UNIVERSITY_DEPARTMENT_ID]],PQR_Dept!$H$2:$H$7026, 0)), "") | D6: =IFERROR(INDEX(PQR_Dept!$E$2:$E$7026, MATCH(Faculty_2023_25[[#This Row],[UNIVERSITY_DEPARTMENT_ID]],PQR_Dept!$H$2:$H$7026, 0)), "") | E6: =IFERROR(INDEX(PQR_Dept!$F$2:$F$7026, MATCH(Faculty_2023_25[[#This Row],[UNIVERSITY_DEPARTMENT_ID]],PQR_Dept!$H$2:$H$7026, 0)), "")
A7: =IFERROR(INDEX(PQR_Dept!$A$2:$A$7026, MATCH(Faculty_2023_25[[#This Row],[UNIVERSITY_DEPARTMENT_ID]],PQR_Dept!$H$2:$H$7026, 0)), "") | B7: =IFERROR(INDEX(PQR_Dept!$B$2:$B$7026, MATCH(Faculty_2023_25[[#This Row],[UNIVERSITY_DEPARTMENT_ID]],PQR_Dept!$H$2:$H$7026, 0)), "") | C7: =IFERROR(INDEX(PQR_Dept!$C$2:$C$7026, MATCH(Faculty_2023_25[[#This Row],[UNIVERSITY_DEPARTMENT_ID]],PQR_Dept!$H$2:$H$7026, 0)), "") | D7: =IFERROR(INDEX(PQR_Dept!$E$2:$E$7026, MATCH(Faculty_2023_25[[#This Row],[UNIVERSITY_DEPARTMENT_ID]],PQR_Dept!$H$2:$H$7026, 0)), "") | E7: =IFERROR(INDEX(PQR_Dept!$F$2:$F$7026, MATCH(Faculty_2023_25[[#This Row],[UNIVERSITY_DEPARTMENT_ID]],PQR_Dept!$H$2:$H$7026, 0)), "")
A8: =IFERROR(INDEX(PQR_Dept!$A$2:$A$7026, MATCH(Faculty_2023_25[[#This Row],[UNIVERSITY_DEPARTMENT_ID]],PQR_Dept!$H$2:$H$7026, 0)), "") | B8: =IFERROR(INDEX(PQR_Dept!$B$2:$B$7026, MATCH(Faculty_2023_25[[#This Row],[UNIVERSITY_DEPARTMENT_ID]],PQR_Dept!$H$2:$H$7026, 0)), "") | C8: =IFERROR(INDEX(PQR_Dept!$C$2:$C$7026, MATCH(Faculty_2023_25[[#This Row],[UNIVERSITY_DEPARTMENT_ID]],PQR_Dept!$H$2:$H$7026, 0)), "") | D8: =IFERROR(INDEX(PQR_Dept!$E$2:$E$7026, MATCH(Faculty_2023_25[[#This Row],[UNIVERSITY_DEPARTMENT_ID]],PQR_Dept!$H$2:$H$7026, 0)), "") | E8: =IFERROR(INDEX(PQR_Dept!$F$2:$F$7026, MATCH(Faculty_2023_25[[#This Row],[UNIVERSITY_DEPARTMENT_ID]],PQR_Dept!$H$2:$H$7026, 0)), "")
A9: =IFERROR(INDEX(PQR_Dept!$A$2:$A$7026, MATCH(Faculty_2023_25[[#This Row],[UNIVERSITY_DEPARTMENT_ID]],PQR_Dept!$H$2:$H$7026, 0)), "") | B9: =IFERROR(INDEX(PQR_Dept!$B$2:$B$7026, MATCH(Faculty_2023_25[[#This Row],[UNIVERSITY_DEPARTMENT_ID]],PQR_Dept!$H$2:$H$7026, 0)), "") | C9: =IFERROR(INDEX(PQR_Dept!$C$2:$C$7026, MATCH(Faculty_2023_25[[#This Row],[UNIVERSITY_DEPARTMENT_ID]],PQR_Dept!$H$2:$H$7026, 0)), "") | D9: =IFERROR(INDEX(PQR_Dept!$E$2:$E$7026, MATCH(Faculty_2023_25[[#This Row],[UNIVERSITY_DEPARTMENT_ID]],PQR_Dept!$H$2:$H$7026, 0)), "") | E9: =IFERROR(INDEX(PQR_Dept!$F$2:$F$7026, MATCH(Faculty_2023_25[[#This Row],[UNIVERSITY_DEPARTMENT_ID]],PQR_Dept!$H$2:$H$7026, 0)), "")
A10: =IFERROR(INDEX(PQR_Dept!$A$2:$A$7026, MATCH(Faculty_2023_25[[#This Row],[UNIVERSITY_DEPARTMENT_ID]],PQR_Dept!$H$2:$H$7026, 0)), "") | B10: =IFERROR(INDEX(PQR_Dept!$B$2:$B$7026, MATCH(Faculty_2023_25[[#This Row],[UNIVERSITY_DEPARTMENT_ID]],PQR_Dept!$H$2:$H$7026, 0)), "") | C10: =IFERROR(INDEX(PQR_Dept!$C$2:$C$7026, MATCH(Faculty_2023_25[[#This Row],[UNIVERSITY_DEPARTMENT_ID]],PQR_Dept!$H$2:$H$7026, 0)), "") | D10: =IFERROR(INDEX(PQR_Dept!$E$2:$E$7026, MATCH(Faculty_2023_25[[#This Row],[UNIVERSITY_DEPARTMENT_ID]],PQR_Dept!$H$2:$H$7026, 0)), "") | E10: =IFERROR(INDEX(PQR_Dept!$F$2:$F$7026, MATCH(Faculty_2023_25[[#This Row],[UNIVERSITY_DEPARTMENT_ID]],PQR_Dept!$H$2:$H$7026, 0)), "")
A11: =IFERROR(INDEX(PQR_Dept!$A$2:$A$7026, MATCH(Faculty_2023_25[[#This Row],[UNIVERSITY_DEPARTMENT_ID]],PQR_Dept!$H$2:$H$7026, 0)), "") | B11: =IFERROR(INDEX(PQR_Dept!$B$2:$B$7026, MATCH(Faculty_2023_25[[#This Row],[UNIVERSITY_DEPARTMENT_ID]],PQR_Dept!$H$2:$H$7026, 0)), "") | C11: =IFERROR(INDEX(PQR_Dept!$C$2:$C$7026, MATCH(Faculty_2023_25[[#This Row],[UNIVERSITY_DEPARTMENT_ID]],PQR_Dept!$H$2:$H$7026, 0)), "") | D11: =IFERROR(INDEX(PQR_Dept!$E$2:$E$7026, MATCH(Faculty_2023_25[[#This Row],[UNIVERSITY_DEPARTMENT_ID]],PQR_Dept!$H$2:$H$7026, 0)), "") | E11: =IFERROR(INDEX(PQR_Dept!$F$2:$F$7026, MATCH(Faculty_2023_25[[#This Row],[UNIVERSITY_DEPARTMENT_ID]],PQR_Dept!$H$2:$H$7026, 0)), "")
A12: =IFERROR(INDEX(PQR_Dept!$A$2:$A$7026, MATCH(Faculty_2023_25[[#This Row],[UNIVERSITY_DEPARTMENT_ID]],PQR_Dept!$H$2:$H$7026, 0)), "") | B12: =IFERROR(INDEX(PQR_Dept!$B$2:$B$7026, MATCH(Faculty_2023_25[[#This Row],[UNIVERSITY_DEPARTMENT_ID]],PQR_Dept!$H$2:$H$7026, 0)), "") | C12: =IFERROR(INDEX(PQR_Dept!$C$2:$C$7026, MATCH(Faculty_2023_25[[#This Row],[UNIVERSITY_DEPARTMENT_ID]],PQR_Dept!$H$2:$H$7026, 0)), "") | D12: =IFERROR(INDEX(PQR_Dept!$E$2:$E$7026, MATCH(Faculty_2023_25[[#This Row],[UNIVERSITY_DEPARTMENT_ID]],PQR_Dept!$H$2:$H$7026, 0)), "") | E12: =IFERROR(INDEX(PQR_Dept!$F$2:$F$7026, MATCH(Faculty_2023_25[[#This Row],[UNIVERSITY_DEPARTMENT_ID]],PQR_Dept!$H$2:$H$7026, 0)), "")
A13: =IFERROR(INDEX(PQR_Dept!$A$2:$A$7026, MATCH(Faculty_2023_25[[#This Row],[UNIVERSITY_DEPARTMENT_ID]],PQR_Dept!$H$2:$H$7026, 0)), "") | B13: =IFERROR(INDEX(PQR_Dept!$B$2:$B$7026, MATCH(Faculty_2023_25[[#This Row],[UNIVERSITY_DEPARTMENT_ID]],PQR_Dept!$H$2:$H$7026, 0)), "") | C13: =IFERROR(INDEX(PQR_Dept!$C$2:$C$7026, MATCH(Faculty_2023_25[[#This Row],[UNIVERSITY_DEPARTMENT_ID]],PQR_Dept!$H$2:$H$7026, 0)), "") | D13: =IFERROR(INDEX(PQR_Dept!$E$2:$E$7026, MATCH(Faculty_2023_25[[#This Row],[UNIVERSITY_DEPARTMENT_ID]],PQR_Dept!$H$2:$H$7026, 0)), "") | E13: =IFERROR(INDEX(PQR_Dept!$F$2:$F$7026, MATCH(Faculty_2023_25[[#This Row],[UNIVERSITY_DEPARTMENT_ID]],PQR_Dept!$H$2:$H$7026, 0)), "")
... A2000: =IFERROR(INDEX(PQR_Dept!$A$2:$A$7026, MATCH(Faculty_2023_25[[#This Row],[UNIVERSITY_DEPARTMENT_ID]],PQR_Dept!$H$2:$H$7026, 0)), "") | B2000: =IFERROR(INDEX(PQR_Dept!$B$2:$B$7026, MATCH(Faculty_2023_25[[#This Row],[UNIVERSITY_DEPARTMENT_ID]],PQR_Dept!$H$2:$H$7026, 0)), "") | C2000: =IFERROR(INDEX(PQR_Dept!$C$2:$C$7026, MATCH(Faculty_2023_25[[#This Row],[UNIVERSITY_DEPARTMENT_ID]],PQR_Dept!$H$2:$H$7026, 0)), "") | D2000: =IFERROR(INDEX(PQR_Dept!$E$2:$E$7026, MATCH(Faculty_2023_25[[#This Row],[UNIVERSITY_DEPARTMENT_ID]],PQR_Dept!$H$2:$H$7026, 0)), "") | E2000: =IFERROR(INDEX(PQR_Dept!$F$2:$F$7026, MATCH(Faculty_2023_25[[#This Row],[UNIVERSITY_DEPARTMENT_ID]],PQR_Dept!$H$2:$H$7026, 0)), "")

Sheet PQR_Dept
A1: PQR_Department[UNIVERSITY ID] | B1: PQR_Department[UNIVERSITY NAME] | C1: PQR_Department[CAMPUS TYPE] | D1: PQR_Department[CAMPUS NAME] | E1: PQR_Department[CAMPUS CITY] | F1: PQR_Department[DEPARTMENT NAME] | G1: PQR_Department[UNIVERSITY DEPARTMENT ID] | H1: Dept ID
A2: 10 | B2: Bahria University, Islamabad | C2: Constituent College | D2: Institute of Professional Psychology | E2: Karachi | F2: Biotechnology | G2: 575 | H2: =CONCATENATE(G2, ">>>", C2, ">>>", E2, ">>>", F2) -> 575>>>Constituent College>>>Karachi>>>Biotechnology
A3: 10 | B3: Bahria University, Islamabad | C3: Main Campus | D3: Bahria University Islamabad Campus | E3: Islamabad | F3: Microbiology | G3: 568 | H3: =CONCATENATE(G3, ">>>", C3, ">>>", E3, ">>>", F3) -> 568>>>Main Campus>>>Islamabad>>>Microbiology
A4: 103 | B4: Gomal University, D.I. Khan | C4: Affiliated College | D4: Center Of Emerging Sciences, Engineering & Technology | E4: Islamabad | F4: Physics | G4: 16677 | H4: =CONCATENATE(G4, ">>>", C4, ">>>", E4, ">>>", F4) -> 16677>>>Affiliated College>>>Islamabad>>>Physics
A5: 103 | B5: Gomal University, D.I. Khan | C5: Main Campus | D5: New Campus | E5: Dera Ismail Khan | F5: Biological Sciences | G5: 1831 | H5: =CONCATENATE(G5, ">>>", C5, ">>>", E5, ">>>", F5) -> 1831>>>Main Campus>>>Dera Ismail Khan>>>Biological Sciences
A6: 103 | B6: Gomal University, D.I. Khan | C6: Main Campus | D6: New Campus | E6: Dera Ismail Khan | F6: Department of Biological Sciences | G6: 11763 | H6: =CONCATENATE(G6, ">>>", C6, ">>>", E6, ">>>", F6) -> 11763>>>Main Campus>>>Dera Ismail Khan>>>Department of Biological Sciences
A7: 103 | B7: Gomal University, D.I. Khan | C7: Main Campus | D7: New Campus | E7: Dera Ismail Khan | F7: Gomal Center of Biochemistry & Biotechnology | G7: 1877 | H7: =CONCATENATE(G7, ">>>", C7, ">>>", E7, ">>>", F7) -> 1877>>>Main Campus>>>Dera Ismail Khan>>>Gomal Center of Biochemistry & Biotechnology
A8: 103 | B8: Gomal University, D.I. Khan | C8: Main Campus | D8: New Campus | E8: Dera Ismail Khan | F8: Institute of Microbiology | G8: 16173 | H8: =CONCATENATE(G8, ">>>", C8, ">>>", E8, ">>>", F8) -> 16173>>>Main Campus>>>Dera Ismail Khan>>>Institute of Microbiology
A9: 103 | B9: Gomal University, D.I. Khan | C9: Main Campus | D9: New Campus | E9: Dera Ismail Khan | F9: Institute of physics and Electronics | G9: 16787 | H9: =CONCATENATE(G9, ">>>", C9, ">>>", E9, ">>>", F9) -> 16787>>>Main Campus>>>Dera Ismail Khan>>>Institute of physics and Electronics
A10: 103 | B10: Gomal University, D.I. Khan | C10: Main Campus | D10: New Campus | E10: Dera Ismail Khan | F10: Physics | G10: 1845 | H10: =CONCATENATE(G10, ">>>", C10, ">>>", E10, ">>>", F10) -> 1845>>>Main Campus>>>Dera Ismail Khan>>>Physics
A11: 103 | B11: Gomal University, D.I. Khan | C11: Sub Campus | D11: Tank Campus | E11: Dera Ismail Khan | F11: Department of Physics | G11: 50903 | H11: =CONCATENATE(G11, ">>>", C11, ">>>", E11, ">>>", F11) -> 50903>>>Sub Campus>>>Dera Ismail Khan>>>Department of Physics
A12: 104 | B12: Hazara University, Dodhial, Mansehra | C12: Affiliated College | D12: Government Girls Degree College No 2, Abbottabad | E12: Abbottabad | F12: Physics | G12: 7327 | H12: =CONCATENATE(G12, ">>>", C12, ">>>", E12, ">>>", F12) -> 7327>>>Affiliated College>>>Abbottabad>>>Physics
A13: 104 | B13: Hazara University, Dodhial, Mansehra | C13: Affiliated College | D13: Government Post Graduate College No 1, Abbottabad | E13: Abbottabad | F13: Physics | G13: 7266 | H13: =CONCATENATE(G13, ">>>", C13, ">>>", E13, ">>>", F13) -> 7266>>>Affiliated College>>>Abbottabad>>>Physics
... A655: 99 | B655: CECOS University of Information Technology and Emerging Sciences, Peshawar | C655: Main Campus | D655: Main Campus | E655: Peshawar | F655: Institute of Integrative Biosciences | G655: 1966 | H655: =CONCATENATE(G655, ">>>", C655, ">>>", E655, ">>>", F655) -> 1966>>>Main Campus>>>Peshawar>>>Institute of Integrative Biosciences

Sheet Sheet6
A1: University ID | B1: HEI Name2 | C1: PQR_UNIVERSITY_ID | D1: PQR_UNIVERSITY_NAME | E1: S.No. | F1: User Name | G1: Password | H1: Column1 | J1: Username/Password | K1: Univ Name
A2: 1 | B2: Abasyn University, Peshawar | C2: 121 | D2: Abasyn University, Peshawar | E2: 277 | F2: arif.abasyn@pern.edu.pk | G2: JczE8668 | H2: =CONCATENATE(D2,G2) -> Abasyn University, PeshawarJczE8668 | J2: =CONCATENATE(Login!B3,Login!C3) | K2: =IFERROR(INDEX($D$2:$D$271, MATCH(J2, $H$2:$H$271, 0)), "")
A3: 2 | B3: Abbottabad University of Science & Technology (AUST), Abbottabad | C3: 17758 | D3: Abbottabad University of Science & Technology (AUST), Abbottabad | F3: Saifmehsud_aust@pern.edu.pk | G3: WojM9701 | H3: =CONCATENATE(D3,G3) -> Abbottabad University of Science & Technology (AUST), AbbottabadWojM9701
A4: 3 | B4: Abdul Wali Khan University, Mardan | C4: 130 | D4: Abdul Wali Khan University, Mardan | F4: Beenish_khurshid_awkum@pern.edu.pk | G4: WpgS3237 | H4: =CONCATENATE(D4,G4) -> Abdul Wali Khan University, MardanWpgS3237
A5: 4 | B5: Aga Khan University, Karachi | C5: 17488 | D5: Aga Khan University, Karachi | E5: 332 | F5: nasreen.sheikh.aku@pern.edu.pk | G5: OubA3287 | H5: =CONCATENATE(D5,G5) -> Aga Khan University, KarachiOubA3287
A6: 5 | B6: Air University, Islamabad | C6: 8 | D6: Air University, Islamabad | E6: 23 | F6: mehreen.ishtiaq.mail@pern.edu.pk | G6: KwmB6111 | H6: =CONCATENATE(D6,G6) -> Air University, IslamabadKwmB6111
A7: 6 | B7: Air War College Institute, Karachi | C7: 17845 | D7: Air War College Institute (AWCI), Karachi | E7: 478 | F7: registrar.awci@pern.edu.pk | G7: XtcZ8895 | H7: =CONCATENATE(D7,G7) -> Air War College Institute (AWCI), KarachiXtcZ8895
D8: Al-ghazali University, Karachi | G8: FvvK9506 | H8: =CONCATENATE(D8,G8) -> Al-ghazali University, KarachiFvvK9506
A9: 7 | B9: Al-Hamd Islamic University, Quetta | C9: 132 | D9: Al-Hamd Islamic University, Quetta | E9: 289 | F9: anila.kamal.alhamd@pern.edu.pk | G9: UknW5841 | H9: =CONCATENATE(D9,G9) -> Al-Hamd Islamic University, QuettaUknW5841
A10: 8 | B10: Ali Institute of Education, Lahore | C10: 17719 | D10: Ali Institute of Education | E10: 342 | F10: uzma.aie@pern.edu.pk | G10: BntC5934 | H10: =CONCATENATE(D10,G10) -> Ali Institute of EducationBntC5934
A11: 9 | B11: Al-Karam International Institute, Bhera | C11: 179303 | D11: Alkaram International Institute, Bhera | E11: 522 | F11: coe.akii@pern.edu.pk | G11: YdhY7389 | H11: =CONCATENATE(D11,G11) -> Alkaram International Institute, BheraYdhY7389
D12: Al-Kawthar University, Karachi | G12: CmuC5819 | H12: =CONCATENATE(D12,G12) -> Al-Kawthar University, KarachiCmuC5819
D13: Al-Khair University, AJ&K | G13: EsjE1546 | H13: =CONCATENATE(D13,G13) -> Al-Khair University, AJ&KEsjE1546
D14: Allama Iqbal Open University, Islamabad (AIOU) | G14: BvmW3703 | H14: =CONCATENATE(D14,G14) -> Allama Iqbal Open University, Islamabad (AIOU)BvmW3703
A15: 12 | B15: Aror University of Art, Architecture, Design and Heritage, Sukkur | C15: 179302 | D15: Aror University of Art, Architecture, Design and Heritage, Sukkur | E15: 525 | F15: ddit.aroruniversitysindh@pern.edu.pk | G15: QerI4073 | H15: =CONCATENATE(D15,G15) -> Aror University of Art, Architecture, Design and Heritage, SukkurQerI4073
D16: Baba Guru Nanak University Nankana Sahib | G16: CsjP6462 | H16: =CONCATENATE(D16,G16) -> Baba Guru Nanak University Nankana SahibCsjP6462
A17: 13 | B17: Bacha Khan University, Charsadda | C17: 17720 | D17: Bacha Khan University, Charsadda | E17: 345 | F17: director_qec.bkuc@pern.edu.pk | G17: SumR4777 | H17: =CONCATENATE(D17,G17) -> Bacha Khan University, CharsaddaSumR4777
A18: 14 | B18: Bahauddin Zakariya University, Multan | C18: 2 | D18: Bahauddin Zakariya University, Multan | E18: 3 | F18: dgebzu.bzu@pern.edu.pk | G18: TgzD8016 | H18: =CONCATENATE(D18,G18) -> Bahauddin Zakariya University, MultanTgzD8016
A19: 15 | B19: Bahria University, Islamabad | C19: 10 | D19: Bahria University, Islamabad | E19: 29 | F19: accreditationofficer.buho.bahria@pern.edu.pk | G19: WjzR4565 | H19: =CONCATENATE(D19,G19) -> Bahria University, IslamabadWjzR4565
A20: 16 | B20: Balochistan University of Engineering & Technology, Khuzdar | C20: 92 | D20: Balochistan University of Engineering & Technology, Khuzdar | E20: 223 | F20: mumtazmengal.buetk@pern.edu.pk | G20: WhkL6705 | H20: =CONCATENATE(D20,G20) -> Balochistan University of Engineering & Technology, KhuzdarWhkL6705
A21: 17 | B21: Balochistan University of Information Technology, Engineering & Management Sciences (BUITEMS), Quetta | C21: 17497 | D21: Balochistan University of Information Technology, Engineering and Management Sciences,Quetta | E21: 335 | F21: darashikoh.buitms@pern.edu.pk | G21: OylK9827 | H21: =CONCATENATE(D21,G21) -> Balochistan University of Information Technology, Engineering and Management Sciences,QuettaOylK9827
A22: 18 | B22: Baqai Medical University, Karachi | C22: 59 | D22: Baqai Medical University, Karachi | E22: 160 | F22: qec.baqai@pern.edu.pk | G22: AnoG8933 | H22: =CONCATENATE(D22,G22) -> Baqai Medical University, KarachiAnoG8933
A23: 19 | B23: Beaconhouse National University, Lahore | C23: 23 | D23: Beaconhouse National University, Lahore | E23: 57 | F23: saleem.bnu@pern.edu.pk | G23: FgxG4694 | H23: =CONCATENATE(D23,G23) -> Beaconhouse National University, LahoreFgxG4694
A24: 20 | B24: Begum Nusrat Bhutto Women University, Sukkur | C24: 17856 | D24: Begum Nusrat Bhutto Women University, Sukkur | E24: 515 | F24: qec.bnbwu@pern.edu.pk | G24: FpwD3761 | H24: =CONCATENATE(D24,G24) -> Begum Nusrat Bhutto Women University, SukkurFpwD3761
A25: 21 | B25: Benazir Bhutto Shaheed University Lyari, Karachi | C25: 17721 | D25: Benazir Bhutto Shaheed University Lyari, Karachi | E25: 348 | F25: registrar.bbsul@pern.edu.pk | G25: ZqqV5121 | H25: =CONCATENATE(D25,G25) -> Benazir Bhutto Shaheed University Lyari, KarachiZqqV5121
A26: 23 | B26: Brains Institute, Peshawar | C26: 17794 | D26: Brains Institute Peshawar | E26: 451 | F26: hayyan.cemco.icloud@pern.edu.pk | G26: DyaF9932 | H26: =CONCATENATE(D26,G26) -> Brains Institute PeshawarDyaF9932
A27: 24 | B27: Capital University of Sciences & Technology, Islamabad | C27: 17752 | D27: Capital University of Science and Technology, Islamabad | E27: 431 | F27: hassan.awan.cust@pern.edu.pk | G27: BvoH8720 | H27: =CONCATENATE(D27,G27) -> Capital University of Science and Technology, IslamabadBvoH8720
A28: 25 | B28: CECOS University of Information Technology and Emerging Sciences, Peshawar | C28: 99 | D28: CECOS University of Information Technology and Emerging Sciences, Peshawar | E28: 233 | F28: saqib.cecos@pern.edu.pk | G28: HhnV5590 | H28: =CONCATENATE(D28,G28) -> CECOS University of Information Technology and Emerging Sciences, PeshawarHhnV5590
A29: 26 | B29: Cholistan University of Veterinary & Animal Sciences, Bahawalpur | C29: 17828 | D29: Cholistan University of Veterinary and Animal Sciences, Bahawalpur | F29: Ranamuhammadbilal_cuvas@pern.edu.pk | G29: SzjZ6924 | H29: =CONCATENATE(D29,G29) -> Cholistan University of Veterinary and Animal Sciences, BahawalpurSzjZ6924
A30: 27 | B30: City University of Science & Information Technology, Peshawar | C30: 100 | D30: City University of Science and Information Technology, Peshawar | E30: 235 | F30: deputy.registrar@pern.edu.pk | G30: LnlV2098 | H30: =CONCATENATE(D30,G30) -> City University of Science and Information Technology, PeshawarLnlV2098
A31: 28 | B31: COMMECS Institute of Business & Emerging Sciences, Karachi | C31: 17722 | D31: Commecs Institute of Business & Emerging Sciences, Karachi | E31: 352 | F31: imran.iqbal.commecsinstitute@pern.edu.pk | G31: TbkX3335 | H31: =CONCATENATE(D31,G31) -> Commecs Institute of Business & Emerging Sciences, KarachiTbkX3335
A32: 29 | B32: COMSATS University, Islamabad | C32: 11 | D32: COMSATS University Islamabad | E32: 33 | F32: m.mudassir.comsats@pern.edu.pk | G32: BiwW1564 | H32: =CONCATENATE(D32,G32) -> COMSATS University IslamabadBiwW1564
A33: 30 | B33: Dadabhoy Institute of Higher Education, Karachi | C33: 60 | D33: Dadabhoy Institute of Higher Education, Karachi | E33: 162 | F33: assistantdirectorqec.dadabhoy@pern.edu.pk | G33: AcwP1775 | H33: =CONCATENATE(D33,G33) -> Dadabhoy Institute of Higher Education, KarachiAcwP1775
D34: Dar-Ul-Madina International University, Islamabad | G34: PawF4655 | H34: =CONCATENATE(D34,G34) -> Dar-Ul-Madina International University, IslamabadPawF4655
A35: 31 | B35: Dawood University of Engineering & Technology, Karachi | C35: 165 | D35: Dawood University of Engineering & Technology, Karachi | E35: 319 | F35: dr.arslan.ansari.duet@pern.edu.pk | G35: CtbO9993 | H35: =CONCATENATE(D35,G35) -> Dawood University of Engineering & Technology, KarachiCtbO9993
A36: 32 | B36: DHA Suffa University, Karachi | C36: 17490 | D36: DHA Suffa University, Karachi | E36: 334 | F36: ayesha.mahmood.dsu@pern.edu.pk | G36: SmqV9327 | H36: =CONCATENATE(D36,G36) -> DHA Suffa University, KarachiSmqV9327
A37: 33 | B37: DOW University of Health Sciences, Karachi | C37: 62 | D37: DOW University of Health Sciences, Karachi | E37: 165 | F37: salma.tariq.duhs@pern.edu.pk | G37: SazM7648 | H37: =CONCATENATE(D37,G37) -> DOW University of Health Sciences, Karachi SazM7648
A38: 34 | B38: Emaan Institute Of Management & Sciences, Karachi | C38: 179541 | D38: Emaan Institute of Management & Sciences, Karachi | E38: 79 | F38: Registrar.emaan@pern.edu.pk | G38: FcrQ2633 | H38: =CONCATENATE(D38,G38) -> Emaan Institute of Management & Sciences, KarachiFcrQ2633
A39: 35 | B39: Emerson University, Multan | C39: 179431 | D39: Emerson University, Multan | E39: 526 | F39: registrar.eum@pern.edu.pk | G39: WbgR6442 | H39: =CONCATENATE(D39,G39) -> Emerson University, MultanWbgR6442
D40: Faisalabad Medical University, Faisalabad | G40: RovO4035 | H40: =CONCATENATE(D40,G40) -> Faisalabad Medical University, FaisalabadRovO4035
A41: 38 | B41: Fatima Jinnah Medical University, Lahore | C41: 17776 | D41: Fatima Jinnah Medical University, Lahore | E41: 444 | F41: a.rehman.fjmu@pern.edu.pk | G41: QiaD9951 | H41: =CONCATENATE(D41,G41) -> Fatima Jinnah Medical University, LahoreQiaD9951
A42: 39 | B42: Fatima Jinnah Women University, Rawalpindi | C42: 25 | D42: Fatima Jinnah Women University, Rawalpindi | E42: 62 | F42: ddir_qec.fjwu@pern.edu.pk | G42: KvwA9642 | H42: =CONCATENATE(D42,G42) -> Fatima Jinnah Women University, RawalpindiKvwA9642
A43: 40 | B43: Federal Urdu University of Arts, Sciences & Technology, Karachi | C43: 17476 | D43: Federal Urdu University of Arts, Sciences & Technology | E43: 329 | F43: abeerullah.fuuast@pern.edu.pk | G43: EvzU8144 | H43: =CONCATENATE(D43,G43) -> Federal Urdu University of Arts, Sciences & TechnologyEvzU8144
A44: 41 | B44: Forman Christian College, Lahore | C44: 26 | D44: Forman Christian College, Lahore | E44: 66 | F44: christophernaeem.fccollege@pern.edu.pk | G44: OxzG8767 | H44: =CONCATENATE(D44,G44) -> Forman Christian College, LahoreOxzG8767
A45: 42 | B45: Foundation University, Islamabad | C45: 13 | D45: Foundation University, Islamabad | E45: 34 | F45: Director.qa.fui@pern.edu.pk | G45: EtoZ8565 | H45: =CONCATENATE(D45,G45) -> Foundation University, IslamabadEtoZ8565
A46: 141 | B46: PAQSJ Institute of Medical Sciences, Gambat | C46: 17723 | D46: Gambat Institute of Medical Sciences, Khairpur | E46: 532 | F46: dr.mansoor.gims@pern.edu.pk | G46: YywH6577 | H46: =CONCATENATE(D46,G46) -> Gambat Institute of Medical Sciences, KhairpurYywH6577
A47: 43 | B47: Gandhara University, Peshawar | C47: 101 | D47: Gandhara University, Peshawar | E47: 238 | F47: saira.afridi.gandhara@pern.edu.pk | G47: CqhS1240 | H47: =CONCATENATE(D47,G47) -> Gandhara University, PeshawarCqhS1240
A48: 44 | B48: Ghazi National Institute of Engineering and Scince Dera Ghazi Khan | C48: 17894 | D48: Ghazi National Institute of Engineering and Sciences, Dera Ghazi Khan | E48: 354 | F48: hodphysics.gnies@pern.edu.pk | G48: SvqM9246 | H48: =CONCATENATE(D48,G48) -> Ghazi National Institute of Engineering and Sciences, Dera Ghazi KhanSvqM9246
D49: Ghazi University, Dera Ghazi Khan | G49: YssH9187 | H49: =CONCATENATE(D49,G49) -> Ghazi University, Dera Ghazi KhanYssH9187
A50: 46 | B50: Ghulam Ishaq Khan Institute of Engineering Sciences & Technology, Topi | C50: 102 | D50: Ghulam Ishaq Khan Institute of Engineering Sciences & Technology, Topi | E50: 240 | F50: afsar.giki@pern.edu.pk | G50: RxpX1822 | H50: =CONCATENATE(D50,G50) -> Ghulam Ishaq Khan Institute of Engineering Sciences & Technology, TopiRxpX1822
D51: Global Institute, Lahore | G51: TgqJ6918 | H51: =CONCATENATE(D51,G51) -> Global Institute, LahoreTgqJ6918
A52: 49 | B52: Gomal University, D.I. Khan | C52: 103 | D52: Gomal University, D.I. Khan | F52: Gomal_Uni@pern.edu.pk | G52: JtsW5429 | H52: =CONCATENATE(D52,G52) -> Gomal University, D.I. KhanJtsW5429
A53: 50 | B53: Government College for Women University, Faisalabad | C53: 17725 | D53: Government College for Women University, Faisalabad | E53: 358 | F53: directorqec.gcwuf@pern.edu.pk | G53: BfzM6455 | H53: =CONCATENATE(D53,G53) -> Government College for Women University, FaisalabadBfzM6455
A54: 51 | B54: Government College for Women University, Sialkot | C54: 17726 | D54: Government College for Women University, Sialkot | E54: 363 | F54: dd.qec.gcwus@pern.edu.pk | G54: PjfB8906 | H54: =CONCATENATE(D54,G54) -> Government College for Women University, SialkotPjfB8906
A55: 52 | B55: Government College University, Faisalabad | C55: 28 | D55: Government College University, Faisalabad | F55: Dirqec_gcuf@pern.edu.pk | G55: IsdX4944 | H55: =CONCATENATE(D55,G55) -> Government College University, FaisalabadIsdX4944
A56: 53 | B56: Government College University, Hyderabad | C56: 17836 | D56: Government College University, Hyderabad | E56: 70 | F56: dd.qec.gcuh@pern.edu.pk | G56: IqfB6811 | H56: =CONCATENATE(D56,G56) -> Government College University, HyderabadIqfB6811
A57: 54 | B57: Government College University, Lahore | C57: 29 | D57: Government College University, Lahore | E57: 73 | F57: Additional.regs.gcu@pern.edu.pk | G57: JkhJ4685 | H57: =CONCATENATE(D57,G57) -> Government College University, LahoreJkhJ4685
A58: 55 | B58: Government Sadiq College Women University, Bahawalpur | C58: 17727 | D58: Government Sadiq College Women University, Bahawalpur | E58: 366 | F58: ad.qa.gscwu@pern.edu.pk | G58: OxkK3450 | H58: =CONCATENATE(D58,G58) -> Government Sadiq College Women University, BahawalpurOxkK3450
A59: 56 | B59: Greenwich University, Karachi | C59: 63 | D59: Greenwich University, Karachi | E59: 167 | F59: Sheeraz.greenwich@pern.edu.pk | G59: LviS8917 | H59: =CONCATENATE(D59,G59) -> Greenwich University, KarachiLviS8917
A60: 57 | B60: Habib University, Karachi | C60: 17728 | D60: Habib University, Karachi | F60: Farhana.kazmi_habib@pern.edu.pk | G60: FrnX4567 | H60: =CONCATENATE(D60,G60) -> Habib University, KarachiFrnX4567
A61: 58 | B61: Hajvery University, Lahore | C61: 30 | D61: Hajvery University, Lahore | E61: 76 | F61: qec.hup@pern.edu.pk | G61: WugZ3822 | H61: =CONCATENATE(D61,G61) -> Hajvery University, LahoreWugZ3822
A62: 59 | B62: Hamdard University, Karachi | C62: 64 | D62: Hamdard University, Karachi | E62: 169 | F62: Director.qec.hamdard@pern.edu.pk | G62: DytL4162 | H62: =CONCATENATE(D62,G62) -> Hamdard University, KarachiDytL4162
D63: Hands-Institute of Development studies, Karachi | G63: WepQ2856 | H63: =CONCATENATE(D63,G63) -> Hands-Institute of Development studies, KarachiWepQ2856
A64: 60 | B64: Hazara University, Mansehra | C64: 104 | D64: Hazara University, Dodhial, Mansehra | F64: rpdirector.gmail@pern.edu.pk | G64: PajK1252 | H64: =CONCATENATE(D64,G64) -> Hazara University, Dodhial, MansehraPajK1252
A65: 61 | B65: Health Services Academy (HSA), Islamabad | C65: 17848 | D65: Health Services Academy (HSA), Islamabad | E65: 519 | F65: adnankhan.hsa@pern.edu.pk | G65: ClgE4333 | H65: =CONCATENATE(D65,G65) -> Health Services Academy (HSA), IslamabadClgE4333
A66: 62 | B66: HITEC University, Taxila | C66: 129 | D66: HITEC University, Taxila | E66: 284 | F66: Assistant.registrar.hitecuni@pern.edu.pk | G66: YzxP1410 | H66: =CONCATENATE(D66,G66) -> HITEC University, TaxilaYzxP1410
D67: Hyderabad Institute for Technology & Management Sciences, Hyderabad | G67: MutG8605 | H67: =CONCATENATE(D67,G67) -> Hyderabad Institute for Technology & Management Sciences, HyderabadMutG8605
A68: 63 | B68: Ibadat International University, Islamabad | C68: 17878 | D68: Ibadat International University, Islamabad | E68: 42 | F68: adnan.asif.admin@pern.edu.pk | G68: GbdD4183 | H68: =CONCATENATE(D68,G68) -> Ibadat International University, IslamabadGbdD4183
A69: 249 | B69: Ibn-e-sina University, Mirpurkhas | D69: Ibn-e-sina University, Mirpurkhas | F69: aalam.isu@pern.edu.pk | G69: VyqJ7631 | H69: =CONCATENATE(D69,G69) -> Ibn-e-sina University, MirpurkhasVyqJ7631
A70: 64 | B70: ILMA University, Karachi | C70: 67 | D70: ILMA University, Karachi | E70: 174 | F70: QEC.ILMAUNIVERSITY@pern.edu.pk | G70: OtzJ1428 | H70: =CONCATENATE(D70,G70) -> ILMA University, KarachiOtzJ1428
A71: 65 | B71: Imperial College of Business Studies, Lahore | C71: 31 | D71: Imperial College of Business Studies, Lahore | E71: 78 | F71: registrar.imperial@pern.edu.pk | G71: JsiI5041 | H71: =CONCATENATE(D71,G71) -> Imperial College of Business Studies, LahoreJsiI5041
A72: 66 | B72: Indus Valley School of Art and Architecture, Karachi | C72: 66 | D72: Indus Valley School of Art and Architecture, Karachi | E72: 171 | F72: kashif.nisar.ivs@pern.edu.pk | G72: KbmZ1219 | H72: =CONCATENATE(D72,G72) -> Indus Valley School of Art and Architecture, KarachiKbmZ1219
A73: 67 | B73: Indus University, Karachi | C73: 168 | D73: Indus University, Karachi | E73: 325 | F73: asstt.director.indus@pern.edu.pk | G73: MhuR5793 | H73: =CONCATENATE(D73,G73) -> Indus University, KarachiMhuR5793
A74: 68 | B74: Information Technology University of the Punjab, Lahore | C74: 17729 | D74: Information Technology University, Lahore | E74: 141 | F74: qec.itu@pern.edu.pk | G74: TumD9396 | H74: =CONCATENATE(D74,G74) -> Information Technology University, LahoreTumD9396
A75: 69 | B75: Institute of Art & Culture, Lahore | C75: 17823 | D75: Institute for Art and Culture | E75: 507 | F75: atif.ijaz.iac@pern.edu.pk | G75: ZbtJ3570 | H75: =CONCATENATE(D75,G75) -> Institute for Art and CultureZbtJ3570
A76: 70 | B76: Institute of Business Administration, Karachi | C76: 68 | D76: Institute of Business Administration, Karachi | E76: 175 | F76: masoodali.iba@pern.edu.pk | G76: IdbG7289 | H76: =CONCATENATE(D76,G76) -> Institute of Business Administration, KarachiIdbG7289
A77: 71 | B77: Institute of Business Management, Karachi | C77: 131 | D77: Institute of Business Management, Karachi | E77: 287 | F77: adnan.fuzail.iobm@pern.edu.pk | G77: MxnT2412 | H77: =CONCATENATE(D77,G77) -> Institute of Business Management, KarachiMxnT2412
D78: Institute Of Management and Applied Sciences, Khanewal | G78: CrtP1987 | H78: =CONCATENATE(D78,G78) -> Institute Of Management and Applied Sciences, KhanewalCrtP1987
A79: 72 | B79: Institute of Management Science, Peshawar | C79: 105 | D79: Institute of Management Science, Peshawar (IMS) | E79: 244 | F79: muhammad.jamal.imsciences@pern.edu.pk | G79: QihM1261 | H79: =CONCATENATE(D79,G79) -> Institute of Management Science, Peshawar (IMS)QihM1261
A80: 73 | B80: Institute of Management Sciences, Lahore | C80: 32 | D80: Institute of Management Sciences, Lahore | E80: 81 | F80: mujtaba.sial.pakaims@pern.edu.pk | G80: NfiE3739 | H80: =CONCATENATE(D80,G80) -> Institute of Management Sciences, LahoreNfiE3739
A81: 74 | B81: Institute of Southern Punjab, Multan | C81: 144 | D81: Institute of Southern Punjab, Multan | E81: 297 | F81: idc.isp@pern.edu.pk | G81: FyuW2937 | H81: =CONCATENATE(D81,G81) -> Institute of Southern Punjab, MultanFyuW2937
A82: 75 | B82: Institute of Space Technology, Islamabad | C82: 14 | D82: Institute of Space Technology, Islamabad (IST) | E82: 36 | F82: ab.waheedk.ist@pern.edu.pk | G82: EdpY9457 | H82: =CONCATENATE(D82,G82) -> Institute of Space Technology, Islamabad (IST)EdpY9457
A83: 76 | B83: International Institute of Science, Art and Technology (IISAT), Gujranwala | C83: 179416 | D83: International Institute of Science, Arts and Technology, Gujranwala | E83: 498 | F83: manager.qec.iisat@pern.edu.pk | G83: YptL2979 | H83: =CONCATENATE(D83,G83) -> International Institute of Science, Arts and Technology, GujranwalaYptL2979
A84: 77 | B84: International Islamic University, Islamabad | C84: 15 | D84: International Islamic University, Islamabad | E84: 38 | F84: director.qad.iiu@pern.edu.pk | G84: PbwD7340 | H84: =CONCATENATE(D84,G84) -> International Islamic University, IslamabadPbwD7340
A85: 78 | B85: Iqra National University, Peshawar | C85: 146 | D85: Iqra National University, Peshawar | E85: 301 | F85: mohsin.inu@pern.edu.pk | G85: GdlH9538 | H85: =CONCATENATE(D85,G85) -> Iqra National University, PeshawarGdlH9538
A86: 79 | B86: Iqra University, Karachi | C86: 70 | D86: Iqra University, Karachi | E86: 177 | F86: muizz.iqra@pern.edu.pk | G86: NdgV6843 | H86: =CONCATENATE(D86,G86) -> Iqra University, KarachiNdgV6843
A87: 80 | B87: Islamia College University, Peshawar | C87: 134 | D87: Islamia College, Peshawar | E87: 294 | F87: director.qec.icp@pern.edu.pk | G87: RxrF7013 | H87: =CONCATENATE(D87,G87) -> Islamia College, PeshawarRxrF7013
A88: 81 | B88: Islamia University, Bahawalpur | C88: 33 | D88: Islamia University, Bahawalpur | E88: 84 | F88: qec.iub@pern.edu.pk | G88: AtgK9403 | H88: =CONCATENATE(D88,G88) -> Islamia University, BahawalpurAtgK9403
A89: 82 | B89: Isra University, Hyderabad | C89: 71 | D89: Isra University, Hyderabad | E89: 180 | F89: aj.kazi.isra@pern.edu.pk | G89: IrmZ9034 | H89: =CONCATENATE(D89,G89) -> Isra University, HyderabadIrmZ9034
A90: 83 | B90: Jinnah Sindh Medical University, Karachi | C90: 17730 | D90: Jinnah Sindh Medical University, Karachi | E90: 373 | F90: aamir.anis.jsmu@pern.edu.pk | G90: QeaK9845 | H90: =CONCATENATE(D90,G90) -> Jinnah Sindh Medical University, KarachiQeaK9845
A91: 84 | B91: Jinnah University for Women, Karachi | C91: 72 | D91: Jinnah University for Women, Karachi | E91: 181 | F91: qec.juw@pern.edu.pk | G91: LnvP3739 | H91: =CONCATENATE(D91,G91) -> Jinnah University for Women, KarachiLnvP3739
D92: Kalam Bibi International Women Institute, Bannu | G92: QmvN1046 | H92: =CONCATENATE(D92,G92) -> Kalam Bibi International Women Institute, Bannu QmvN1046
A93: 85 | B93: Karachi Institute of Economics & Technology, Karachi | C93: 73 | D93: Karachi Institute of Economics & Technology, Karachi | E93: 184 | F93: controller.kiet@pern.edu.pk | G93: BsaT7012 | H93: =CONCATENATE(D93,G93) -> Karachi Institute of Economics & Technology, KarachiBsaT7012
D94: Karachi Institute of Technology and Entrepreneurship (KITE), Karachi | G94: NjkF3143 | H94: =CONCATENATE(D94,G94) -> Karachi Institute of Technology and Entrepreneurship (KITE), KarachiNjkF3143
D95: Karachi Metropolitan University, Karachi | G95: RegQ1650 | H95: =CONCATENATE(D95,G95) -> Karachi Metropolitan University, KarachiRegQ1650
A96: 87 | B96: Karachi School for Business & Leadership, Karachi | C96: 17731 | D96: Karachi School of Business & Leadership, Karachi | E96: 376 | F96: Muhammad.Aqeel.ksbl@pern.edu.pk | G96: ZwyA5647 | H96: =CONCATENATE(D96,G96) -> Karachi School of Business & Leadership, KarachiZwyA5647
A97: 88 | B97: Karakoram International University, Gilgit | C97: 17499 | D97: Karakurum International University, Gilgit, Gilgit Baltistan | E97: 337 | F97: director.sael.kiu@pern.edu.pk | G97: IxhV8372 | H97: =CONCATENATE(D97,G97) -> Karakurum International University, Gilgit, Gilgit BaltistanIxhV8372
A98: 89 | B98: Khadim Ali Shah Bukhari Institute of Technology (KASBIT), Karachi | C98: 74 | D98: KASB Institute of Technology, Karachi | E98: 185 | F98: registrar.kasbit@pern.edu.pk | G98: BrkA8872 | H98: =CONCATENATE(D98,G98) -> KASB Institute of Technology, KarachiBrkA8872
A99: 91 | B99: Khushal Khan Khattak University, Karak | C99: 17733 | D99: Khushal Khan Khattak University, Karak | E99: 381 | F99: raheem.khattak.kkkuk@pern.edu.pk | G99: CbbB8047 | H99: =CONCATENATE(D99,G99) -> Khushal Khan Khattak University, KarakCbbB8047
A100: 90 | B100: Khawaja Freed University of Engineering & Information Technology, Rahim Yar Khan | C100: 17732 | D100: Khwaja Fareed University of Engineering and Information Technology, Rahim Yar Khan | E100: 378 | F100: m.bilaltahir.kfueit@pern.edu.pk | G100: KjmG9148 | H100: =CONCATENATE(D100,G100) -> Khwaja Fareed University of Engineering and Information Technology, Rahim Yar KhanKjmG9148
...

Sheet Dropdown Lists
A1: UNIVERSITY_DEGREE_PROGRAM_ID
A2: =IF(Sheet6!$K$2 = PQR_Dept!B2, PQR_Dept!H2, 0) -> 0 | C2: PQR University Name | D2: Department Name(Physics/Biology) | E2: Equipment Name | F2: Type of equipment | G2: Quantity (please only specify a number) | H2: Year of Procurement/Installation | I2: Current Condition/Functionality(Fully functional/partially functional/non-Functional) | J2: Utilization Level(Average usage by students/researchers) | K2: Maintinance status(Under warranty/serviced regularly/not serviced) | L2: Associated lab capacity (number of students/researchers accommodated) | M2: Replacement/Upgrade plans (if any) | N2: University Comments (If any)
A3: =IF(Sheet6!$K$2 = PQR_Dept!B3, PQR_Dept!H3, 0) -> 0 | C3: from PQR | D3: From PQR | E3: Microscope | F3: General Equipment | H3: 1947 or Earlier | I3: Fully Functional | J3: Students | K3: Under Warranty | L3: Number Value | M3: Yes
A4: =IF(Sheet6!$K$2 = PQR_Dept!B4, PQR_Dept!H4, 0) -> 0 | E4: Centrifuge | F4: Physics Equipment | H4: 1948 | I4: Partially Functional | J4: Researchers | K4: Serviced Regularly | M4: No
A5: =IF(Sheet6!$K$2 = PQR_Dept!B5, PQR_Dept!H5, 0) -> 0 | E5: Autoclave | F5: Biological Equipment | H5: 1949 | I5: Non-Functional | J5: Students & Researchers | K5: Not Serviced
A6: =IF(Sheet6!$K$2 = PQR_Dept!B6, PQR_Dept!H6, 0) -> 0 | E6: Incubator | F6: Any Other (Please Specify in HEI Comments Column) | H6: 1950
A7: =IF(Sheet6!$K$2 = PQR_Dept!B7, PQR_Dept!H7, 0) -> 0 | E7: Water Bath | H7: 1951
A8: =IF(Sheet6!$K$2 = PQR_Dept!B8, PQR_Dept!H8, 0) -> 0 | E8: Hot Plate / Magnetic Stirrer | H8: 1952
A9: =IF(Sheet6!$K$2 = PQR_Dept!B9, PQR_Dept!H9, 0) -> 0 | E9: Shaker | H9: 1953
A10: =IF(Sheet6!$K$2 = PQR_Dept!B10, PQR_Dept!H10, 0) -> 0 | E10: pH Meter | H10: 1954
A11: =IF(Sheet6!$K$2 = PQR_Dept!B11, PQR_Dept!H11, 0) -> 0 | E11: Refrigerator / Freezer | H11: 1955
A12: =IF(Sheet6!$K$2 = PQR_Dept!B12, PQR_Dept!H12, 0) -> 0 | E12: PCR Machine | H12: 1956
A13: =IF(Sheet6!$K$2 = PQR_Dept!B13, PQR_Dept!H13, 0) -> 0 | E13: Gel Electrophoresis Unit | H13: 1957
A14: =IF(Sheet6!$K$2 = PQR_Dept!B14, PQR_Dept!H14, 0) -> 0 | E14: Spectrophotometer | H14: 1958
A15: =IF(Sheet6!$K$2 = PQR_Dept!B15, PQR_Dept!H15, 0) -> 0 | E15: Biosafety Cabinet | H15: 1959
A16: =IF(Sheet6!$K$2 = PQR_Dept!B16, PQR_Dept!H16, 0) -> 0 | E16: Laminar Flow Hood | H16: 1960
A17: =IF(Sheet6!$K$2 = PQR_Dept!B17, PQR_Dept!H17, 0) -> 0 | E17: Colony Counter | H17: 1961
A18: =IF(Sheet6!$K$2 = PQR_Dept!B18, PQR_Dept!H18, 0) -> 0 | E18: ELISA Reader | H18: 1962
... A38: =IF(Sheet6!$K$2 = PQR_Dept!B38, PQR_Dept!H38, 0) -> 0 | E38: Any Other (Please Specify in HEI Comments Column) | H38: 1982
A39: =IF(Sheet6!$K$2 = PQR_Dept!B39, PQR_Dept!H39, 0) -> 0 | H39: 1983
A40: =IF(Sheet6!$K$2 = PQR_Dept!B40, PQR_Dept!H40, 0) -> 0 | H40: 1984
A41: =IF(Sheet6!$K$2 = PQR_Dept!B41, PQR_Dept!H41, 0) -> 0 | H41: 1985
A42: =IF(Sheet6!$K$2 = PQR_Dept!B42, PQR_Dept!H42, 0) -> 0 | H42: 1986
A43: =IF(Sheet6!$K$2 = PQR_Dept!B43, PQR_Dept!H43, 0) -> 0 | H43: 1987
A44: =IF(Sheet6!$K$2 = PQR_Dept!B44, PQR_Dept!H44, 0) -> 0 | H44: 1988
A45: =IF(Sheet6!$K$2 = PQR_Dept!B45, PQR_Dept!H45, 0) -> 0 | H45: 1989
A46: =IF(Sheet6!$K$2 = PQR_Dept!B46, PQR_Dept!H46, 0) -> 0 | H46: 1990
A47: =IF(Sheet6!$K$2 = PQR_Dept!B47, PQR_Dept!H47, 0) -> 0 | H47: 1991
A48: =IF(Sheet6!$K$2 = PQR_Dept!B48, PQR_Dept!H48, 0) -> 0 | H48: 1992
A49: =IF(Sheet6!$K$2 = PQR_Dept!B49, PQR_Dept!H49, 0) -> 0 | H49: 1993
A50: =IF(Sheet6!$K$2 = PQR_Dept!B50, PQR_Dept!H50, 0) -> 0 | H50: 1994
... A81: =IF(Sheet6!$K$2 = PQR_Dept!B81, PQR_Dept!H81, 0) -> 0 | H81: 2025
A82: =IF(Sheet6!$K$2 = PQR_Dept!B82, PQR_Dept!H82, 0) -> 0
A83: =IF(Sheet6!$K$2 = PQR_Dept!B83, PQR_Dept!H83, 0) -> 0
A84: =IF(Sheet6!$K$2 = PQR_Dept!B84, PQR_Dept!H84, 0) -> 0
A85: =IF(Sheet6!$K$2 = PQR_Dept!B85, PQR_Dept!H85, 0) -> 0
A86: =IF(Sheet6!$K$2 = PQR_Dept!B86, PQR_Dept!H86, 0) -> 0
A87: =IF(Sheet6!$K$2 = PQR_Dept!B87, PQR_Dept!H87, 0) -> 0
A88: =IF(Sheet6!$K$2 = PQR_Dept!B88, PQR_Dept!H88, 0) -> 0
A89: =IF(Sheet6!$K$2 = PQR_Dept!B89, PQR_Dept!H89, 0) -> 0
A90: =IF(Sheet6!$K$2 = PQR_Dept!B90, PQR_Dept!H90, 0) -> 0
A91: =IF(Sheet6!$K$2 = PQR_Dept!B91, PQR_Dept!H91, 0) -> 0
A92: =IF(Sheet6!$K$2 = PQR_Dept!B92, PQR_Dept!H92, 0) -> 0
A93: =IF(Sheet6!$K$2 = PQR_Dept!B93, PQR_Dept!H93, 0) -> 0
... A999: =IF(Sheet6!$K$2 = PQR_Dept!B999, PQR_Dept!H999, 0) -> 0
A1000: Any Other (Please Specify in HEI Comments Column)
